BEGIN:VCALENDAR
VERSION:2.0
PRODID:-//AGRUPACIÓ CULTURAL FOLKLÒRICA BARCELONA - ECPv6.11.2.1//NONSGML v1.0//EN
CALSCALE:GREGORIAN
METHOD:PUBLISH
X-ORIGINAL-URL:https://acfbarcelona.cat
X-WR-CALDESC:Esdeveniments per AGRUPACIÓ CULTURAL FOLKLÒRICA BARCELONA
REFRESH-INTERVAL;VALUE=DURATION:PT1H
X-Robots-Tag:noindex
X-PUBLISHED-TTL:PT1H
BEGIN:VTIMEZONE
TZID:Europe/Madrid
BEGIN:DAYLIGHT
TZOFFSETFROM:+0100
TZOFFSETTO:+0200
TZNAME:CEST
DTSTART:20240331T010000
END:DAYLIGHT
BEGIN:STANDARD
TZOFFSETFROM:+0200
TZOFFSETTO:+0100
TZNAME:CET
DTSTART:20241027T010000
END:STANDARD
END:VTIMEZONE
BEGIN:VEVENT
DTSTART;TZID=Europe/Madrid:20241005T080000
DTEND;TZID=Europe/Madrid:20241005T180000
DTSTAMP:20260421T061415
CREATED:20241002T142830Z
LAST-MODIFIED:20241002T145543Z
UID:10000026-1728115200-1728151200@acfbarcelona.cat
SUMMARY:MUNTANYA - VALLCEBRE
DESCRIPTION:Sortida: VALLCEBRE – Pintar senders PR C128 Vallcebre \nCategoria: Anem de Senders – Xino Xano \nDistància: 13\,4 Km  Temps: 1\,45h \n  \nDescarrega aquí el programa de la temporada \n*Ens reservem el dret de modificar dates i visites si les circumstàncies ho requereixen. Donat el cas serieu avisats amb antelació.
URL:https://acfbarcelona.cat/esdeveniment/muntanya-vallcebre/
END:VEVENT
BEGIN:VEVENT
DTSTART;TZID=Europe/Madrid:20241005T180000
DTEND;TZID=Europe/Madrid:20241005T180000
DTSTAMP:20260421T061415
CREATED:20241002T095350Z
LAST-MODIFIED:20241002T101231Z
UID:10000008-1728151200-1728151200@acfbarcelona.cat
SUMMARY:BALLADA AL PLA DE LA CATEDRAL - LA PRINCIPAL DEL LLOBREGAT
DESCRIPTION:  \nBallada organitzada: Agrupació Cultural Folklòrica Barcelona \nCobla: Principal del Llobregat. \nEl programa el  pots descarregar aquí \n  \n  \n  \n  \n  \n  \n \n 
URL:https://acfbarcelona.cat/esdeveniment/ballada-al-pla-de-la-catedral-la-principal-del-llobregat/
LOCATION:Pla de la Catedral\, Barcelona\, Barcelona
END:VEVENT
END:VCALENDAR