BEGIN:VCALENDAR
VERSION:2.0
PRODID:-//AGRUPACIÓ CULTURAL FOLKLÒRICA BARCELONA - ECPv6.11.2.1//NONSGML v1.0//EN
CALSCALE:GREGORIAN
METHOD:PUBLISH
X-ORIGINAL-URL:https://acfbarcelona.cat
X-WR-CALDESC:Esdeveniments per AGRUPACIÓ CULTURAL FOLKLÒRICA BARCELONA
REFRESH-INTERVAL;VALUE=DURATION:PT1H
X-Robots-Tag:noindex
X-PUBLISHED-TTL:PT1H
BEGIN:VTIMEZONE
TZID:Europe/Madrid
BEGIN:DAYLIGHT
TZOFFSETFROM:+0100
TZOFFSETTO:+0200
TZNAME:CEST
DTSTART:20240331T010000
END:DAYLIGHT
BEGIN:STANDARD
TZOFFSETFROM:+0200
TZOFFSETTO:+0100
TZNAME:CET
DTSTART:20241027T010000
END:STANDARD
END:VTIMEZONE
BEGIN:VEVENT
DTSTART;TZID=Europe/Madrid:20241006T111500
DTEND;TZID=Europe/Madrid:20241006T130000
DTSTAMP:20260421T045722
CREATED:20241002T165021Z
LAST-MODIFIED:20241002T165508Z
UID:10000029-1728213300-1728219600@acfbarcelona.cat
SUMMARY:Ballada al Pla de la Catedral
DESCRIPTION:  \nBallada organitzada: Agrupació Cultural Folklòrica Barcelona \nCobla: Baix Llobregat \nEl programa el  pots descarregar aquí
URL:https://acfbarcelona.cat/esdeveniment/34980/
END:VEVENT
END:VCALENDAR