BEGIN:VCALENDAR
VERSION:2.0
PRODID:-//AGRUPACIÓ CULTURAL FOLKLÒRICA BARCELONA - ECPv6.11.2.1//NONSGML v1.0//EN
CALSCALE:GREGORIAN
METHOD:PUBLISH
X-ORIGINAL-URL:https://acfbarcelona.cat
X-WR-CALDESC:Esdeveniments per AGRUPACIÓ CULTURAL FOLKLÒRICA BARCELONA
REFRESH-INTERVAL;VALUE=DURATION:PT1H
X-Robots-Tag:noindex
X-PUBLISHED-TTL:PT1H
BEGIN:VTIMEZONE
TZID:Europe/Madrid
BEGIN:DAYLIGHT
TZOFFSETFROM:+0100
TZOFFSETTO:+0200
TZNAME:CEST
DTSTART:20240331T010000
END:DAYLIGHT
BEGIN:STANDARD
TZOFFSETFROM:+0200
TZOFFSETTO:+0100
TZNAME:CET
DTSTART:20241027T010000
END:STANDARD
END:VTIMEZONE
BEGIN:VEVENT
DTSTART;TZID=Europe/Madrid:20241014T190000
DTEND;TZID=Europe/Madrid:20241014T203000
DTSTAMP:20260421T045257
CREATED:20241002T110122Z
LAST-MODIFIED:20241002T115827Z
UID:10000019-1728932400-1728937800@acfbarcelona.cat
SUMMARY:CONCERTS A L'ALIANÇA DEL POBLENOU - SARDANA GEGANTERA
DESCRIPTION:Concert: SARDANA GEGANTERA en commemoració dels 600 anys de gegants a Barcelona \nCobla: Sant Jordi – Ciutat de Barcelona \nEntrades a: https://www.entrapolis.com/ \nPresentació: Per descarregar programa clicar aquí \nOpuscle Temporada \n 
URL:https://acfbarcelona.cat/esdeveniment/concerts-a-lalianca-del-poblenou-sardana-gegantera/
LOCATION:Teatre Casino l’Aliança del Poblenou\, Rambla del Poblenou\, 42\, BARCELONA\, BARCELONA\, 08005\, Spain
END:VEVENT
END:VCALENDAR