BEGIN:VCALENDAR
VERSION:2.0
PRODID:-//AGRUPACIÓ CULTURAL FOLKLÒRICA BARCELONA - ECPv6.11.2.1//NONSGML v1.0//EN
CALSCALE:GREGORIAN
METHOD:PUBLISH
X-ORIGINAL-URL:https://acfbarcelona.cat
X-WR-CALDESC:Esdeveniments per AGRUPACIÓ CULTURAL FOLKLÒRICA BARCELONA
REFRESH-INTERVAL;VALUE=DURATION:PT1H
X-Robots-Tag:noindex
X-PUBLISHED-TTL:PT1H
BEGIN:VTIMEZONE
TZID:Europe/Madrid
BEGIN:DAYLIGHT
TZOFFSETFROM:+0100
TZOFFSETTO:+0200
TZNAME:CEST
DTSTART:20240331T010000
END:DAYLIGHT
BEGIN:STANDARD
TZOFFSETFROM:+0200
TZOFFSETTO:+0100
TZNAME:CET
DTSTART:20241027T010000
END:STANDARD
END:VTIMEZONE
BEGIN:VEVENT
DTSTART;TZID=Europe/Madrid:20241019T074500
DTEND;TZID=Europe/Madrid:20241019T200000
DTSTAMP:20260421T045702
CREATED:20241002T101037Z
LAST-MODIFIED:20241002T111629Z
UID:10000011-1729323900-1729368000@acfbarcelona.cat
SUMMARY:TURISME CULTURAL - OLOST (LLUÇANÈS)
DESCRIPTION:Sortida: Olost (Lluçanès) . Centre d’Interpretació Perot Rocaguinarda. \nHola Turistes!!! \nJa després de la visita al Castell de Plegamans\, el mes d’octubre ens endinsarem en el món dels bandolers. El dia 19 anirem cap al Lluçanès\, a Olost per visitar el CENTRE D’INTERPRETACIÓ PEROT ROCAGUINARDA. L’hora de trobada serà a les 7’45 del matí\, per sortir ben puntuals a les 8. Serà al lloc de sempre Balmes/Gran Via. \n  \nEspai Perot Rocaginarda: https://espairocaguinarda.cat/ \n  \nPer a més informació i inscripcions truqueu a la M. Rosa (629217408). \n*Ens reservem el dret de modificar dates i visites si les circumstàncies ho requereixen. Donat el cas serieu avisats amb antelació.
URL:https://acfbarcelona.cat/esdeveniment/turisme-cultural-olost-llucanes/
END:VEVENT
END:VCALENDAR