BEGIN:VCALENDAR
VERSION:2.0
PRODID:-//AGRUPACIÓ CULTURAL FOLKLÒRICA BARCELONA - ECPv6.11.2.1//NONSGML v1.0//EN
CALSCALE:GREGORIAN
METHOD:PUBLISH
X-ORIGINAL-URL:https://acfbarcelona.cat
X-WR-CALDESC:Esdeveniments per AGRUPACIÓ CULTURAL FOLKLÒRICA BARCELONA
REFRESH-INTERVAL;VALUE=DURATION:PT1H
X-Robots-Tag:noindex
X-PUBLISHED-TTL:PT1H
BEGIN:VTIMEZONE
TZID:Europe/Madrid
BEGIN:DAYLIGHT
TZOFFSETFROM:+0100
TZOFFSETTO:+0200
TZNAME:CEST
DTSTART:20240331T010000
END:DAYLIGHT
BEGIN:STANDARD
TZOFFSETFROM:+0200
TZOFFSETTO:+0100
TZNAME:CET
DTSTART:20241027T010000
END:STANDARD
END:VTIMEZONE
BEGIN:VEVENT
DTSTART;TZID=Europe/Madrid:20241028T190000
DTEND;TZID=Europe/Madrid:20241028T203000
DTSTAMP:20260421T030342
CREATED:20241002T105805Z
LAST-MODIFIED:20241002T105943Z
UID:10000017-1730142000-1730147400@acfbarcelona.cat
SUMMARY:CONCERTS A L'ALIANÇA DEL POBLENOU - SARDANA CANTADA
DESCRIPTION:Concert: SARDANA CANTADA \nCobla: La Principal de la Bisbal \nCantant: Gemma Coma Alabert \nEntrades a: https://www.entrapolis.com/ \nPresentació: Per descarregar presentació clicar aquí \nOpuscle Temporada \n  \n 
URL:https://acfbarcelona.cat/esdeveniment/concerts-a-lalianca-del-poblenou-sardana-cantada/
LOCATION:Teatre Casino l’Aliança del Poblenou\, Rambla del Poblenou\, 42\, BARCELONA\, BARCELONA\, 08005\, Spain
END:VEVENT
END:VCALENDAR