BEGIN:VCALENDAR
VERSION:2.0
PRODID:-//AGRUPACIÓ CULTURAL FOLKLÒRICA BARCELONA - ECPv6.11.2.1//NONSGML v1.0//EN
CALSCALE:GREGORIAN
METHOD:PUBLISH
X-ORIGINAL-URL:https://acfbarcelona.cat
X-WR-CALDESC:Esdeveniments per AGRUPACIÓ CULTURAL FOLKLÒRICA BARCELONA
REFRESH-INTERVAL;VALUE=DURATION:PT1H
X-Robots-Tag:noindex
X-PUBLISHED-TTL:PT1H
BEGIN:VTIMEZONE
TZID:Europe/Madrid
BEGIN:DAYLIGHT
TZOFFSETFROM:+0100
TZOFFSETTO:+0200
TZNAME:CEST
DTSTART:20240331T010000
END:DAYLIGHT
BEGIN:STANDARD
TZOFFSETFROM:+0200
TZOFFSETTO:+0100
TZNAME:CET
DTSTART:20241027T010000
END:STANDARD
END:VTIMEZONE
BEGIN:VEVENT
DTSTART;TZID=Europe/Madrid:20241125T190000
DTEND;TZID=Europe/Madrid:20241125T203000
DTSTAMP:20260421T013331
CREATED:20241002T112621Z
LAST-MODIFIED:20241002T114033Z
UID:10000021-1732561200-1732566600@acfbarcelona.cat
SUMMARY:CONCERTS A L'ALIANÇA DEL POBLENOU - MEMORIAL JOAQUIM SERRA
DESCRIPTION:Concert: MEMORIAL JOAQUIM SERRA 2024 \nCOMMEMORANT ELS 150 ANYS DEL NAIXEMENT DE JOSEP SERRA I BONAL I ELS 125 ANYS DEL NAIXEMENT DE RICARD LAMOTE DE GRIGNON \nCobla: Cobla Sant Jordi – Ciutat de Barcelona i Mediterrània \nEntrades a: Trucar a l’Agrupació Cultural Folklòrica Barcelona\, de dilluns a dijous de 16:15 a 19:30 o enviar un correu electrònic a agrupacio@acfbarcelona.cat indicant el nom i número d’entrades.  \nLes entrades es recolliran el mateix dia 25/11 30 minuts abans de l’esdeveniment a l’entrada. \nPresentació: Per descarregar programa clicar aquí \n  \n  \n 
URL:https://acfbarcelona.cat/esdeveniment/concerts-a-lalianca-del-poblenou-memorial-joaquim-serra/
LOCATION:Teatre Casino l’Aliança del Poblenou\, Rambla del Poblenou\, 42\, BARCELONA\, BARCELONA\, 08005\, Spain
END:VEVENT
END:VCALENDAR