BEGIN:VCALENDAR
VERSION:2.0
PRODID:-//AGRUPACIÓ CULTURAL FOLKLÒRICA BARCELONA - ECPv6.11.2.1//NONSGML v1.0//EN
CALSCALE:GREGORIAN
METHOD:PUBLISH
X-WR-CALNAME:AGRUPACIÓ CULTURAL FOLKLÒRICA BARCELONA
X-ORIGINAL-URL:https://acfbarcelona.cat
X-WR-CALDESC:Esdeveniments per AGRUPACIÓ CULTURAL FOLKLÒRICA BARCELONA
REFRESH-INTERVAL;VALUE=DURATION:PT1H
X-Robots-Tag:noindex
X-PUBLISHED-TTL:PT1H
BEGIN:VTIMEZONE
TZID:Europe/Madrid
BEGIN:DAYLIGHT
TZOFFSETFROM:+0100
TZOFFSETTO:+0200
TZNAME:CEST
DTSTART:20240331T010000
END:DAYLIGHT
BEGIN:STANDARD
TZOFFSETFROM:+0200
TZOFFSETTO:+0100
TZNAME:CET
DTSTART:20241027T010000
END:STANDARD
END:VTIMEZONE
BEGIN:VEVENT
DTSTART;TZID=Europe/Madrid:20241216T190000
DTEND;TZID=Europe/Madrid:20241216T200000
DTSTAMP:20260421T013236
CREATED:20241002T114959Z
LAST-MODIFIED:20241002T114959Z
UID:10000023-1734375600-1734379200@acfbarcelona.cat
SUMMARY:CONCERTS A L'ALIANÇA DEL POBLENOU - CONCERT DE NADAL
DESCRIPTION:Concert: CONCERT DE NADAL \nCobla: Cobla Sant Jordi – Ciutat de Barcelona i Cobla Conservatori MMB \nEntrades a: https://www.entrapolis.com/ \nPrograma: Per descarregar programa clicar aquí \n  \n  \n 
URL:https://acfbarcelona.cat/esdeveniment/concerts-a-lalianca-del-poblenou-concert-de-nadal/
LOCATION:Teatre Casino l’Aliança del Poblenou\, Rambla del Poblenou\, 42\, BARCELONA\, BARCELONA\, 08005\, Spain
END:VEVENT
END:VCALENDAR