BEGIN:VCALENDAR
VERSION:2.0
PRODID:-//AGRUPACIÓ CULTURAL FOLKLÒRICA BARCELONA - ECPv6.11.2.1//NONSGML v1.0//EN
CALSCALE:GREGORIAN
METHOD:PUBLISH
X-WR-CALNAME:AGRUPACIÓ CULTURAL FOLKLÒRICA BARCELONA
X-ORIGINAL-URL:https://acfbarcelona.cat
X-WR-CALDESC:Esdeveniments per AGRUPACIÓ CULTURAL FOLKLÒRICA BARCELONA
REFRESH-INTERVAL;VALUE=DURATION:PT1H
X-Robots-Tag:noindex
X-PUBLISHED-TTL:PT1H
BEGIN:VTIMEZONE
TZID:Europe/Madrid
BEGIN:DAYLIGHT
TZOFFSETFROM:+0100
TZOFFSETTO:+0200
TZNAME:CEST
DTSTART:20250330T010000
END:DAYLIGHT
BEGIN:STANDARD
TZOFFSETFROM:+0200
TZOFFSETTO:+0100
TZNAME:CET
DTSTART:20251026T010000
END:STANDARD
END:VTIMEZONE
BEGIN:VEVENT
DTSTART;TZID=Europe/Madrid:20250215T080000
DTEND;TZID=Europe/Madrid:20250215T170000
DTSTAMP:20260420T221947
CREATED:20250114T172532Z
LAST-MODIFIED:20250114T172532Z
UID:10000032-1739606400-1739638800@acfbarcelona.cat
SUMMARY:Igualada - Museu de la Pell
DESCRIPTION:SECCIÓ TURISME CULTURAL VOLTANT PER CATALUNYA \nAl febrer visitarem el Museu de la Pell a Igualada \n  \nPer a més informació i inscripcions truqueu a la M. Rosa (629 217 408). \n*Ens reservem el dret de modificar dates i visites si les circumstàncies ho requereixen.Donat el cas serieu avisats amb antelació.*
URL:https://acfbarcelona.cat/esdeveniment/igualada-museu-de-la-pell/
CATEGORIES:Turisme Cultural
END:VEVENT
BEGIN:VEVENT
DTSTART;TZID=Europe/Madrid:20250215T080000
DTEND;TZID=Europe/Madrid:20250215T170000
DTSTAMP:20260420T221947
CREATED:20250910T094659Z
LAST-MODIFIED:20250910T094659Z
UID:10000115-1739606400-1739638800@acfbarcelona.cat
SUMMARY:Xino-Xano: de Martorell a Sant Andreu de la Barca
DESCRIPTION:Xino-Xano del Grup de Muntanya\nEl Grup de Muntanya és una Secció de l’Agrupació Cultural Folklòrica Barcelona dedicada a l’excursionisme. Últimament s’han impulsat les sortides anomenades “Xino-Xano”\, menys exigents i obertes a tots els públics que han tingut molt bona acollida. Els desplaçaments es fan en transport públic\, i les caminades són senzilles i accessibles\, acabant la  caminada amb un dinar tots plegats. \nMartorell i Sant Andreu de la Barca\nMartorell és una vila de la comarca del Baix Llobregat\, considerada tradicionalment capital de facto de la subcomarca del Baix Llobregat Nord i proposada com a futura capital de la nova comarca del Montserratí o Pla de Montserrat. Es troba a la confluència dels rius Anoia i Llobregat\, on aquest darrer forma un congost de gran importància per a les comunicacions entre el Baix Llobregat\, el Vallès i el Penedès\, i\, per extensió\, l’interior del país i de la península amb Barcelona. \nSant Andreu de la Barca és un municipi de la comarca del Baix Llobregat a la dreta del Llobregat\, entre Martorell\, Castellbisbal\, Castellví de Rosanes i Corbera de Llobregat. Es troba limitat pel riu Llobregat i per les rieres del Palau i de Corbera\, que delimita\, com ja diu el seu nom\, amb Corbera del Llobregat. \nInformació i Inscripcions\nPer a més informació i inscripcions sobre aquesta emocionant passejada\, podeu contactar amb l’Agrupació a través del correu activitats@acfbarcelona.cat. Com sempre\, ens reservem el dret de modificar dates i visites si les circumstàncies ho requereixen. En aquest cas\, seríeu avisats amb la màxima antelació possible per garantir la vostra comoditat. \nNo et perdis cap activitat del Grup de Muntanya!\nPer estar sempre al dia de totes les novetats sobre les nostres properes excursions\, com la passejada per Martorell i Sant Andreu de la Barca\, i totes les propostes de la nostra Agrupació\, et convidem a: \n\nConsultar l’agenda completa: Trobareu totes les nostres sortides programades a la nostra Agenda de Muntanya.\nSeguir-nos a les xarxes socials: Descobreix les nostres fotos i vídeos més recents al nostre Instagram.\nExplorar el nostre blog del Grup de Muntanya: Llegeix cròniques d’altres sortides i descobreix els nostres destins al Blog del Grup de Munyanya. \nMantenir-te informat amb les circulars: Per a tots els detalls i avisos importants\, consulta les nostres Circulars Informatives.\nVisitar la nostra web principal: Descobreix tot el que la nostra Agrupació t’ofereix a la web principal de l’Agrupació Cultural Folklòrica Barcelona.
URL:https://acfbarcelona.cat/esdeveniment/xino-xano-de-martorell-a-sant-andreu-de-la-barca/
CATEGORIES:Muntanya
ATTACH;FMTTYPE=image/webp:https://acfbarcelona.cat/wp-content/uploads/2025/09/Xino-Xano-de-Martorell-a-Sant-Andreu-de-la-Barca.webp
END:VEVENT
END:VCALENDAR