BEGIN:VCALENDAR
VERSION:2.0
PRODID:-//AGRUPACIÓ CULTURAL FOLKLÒRICA BARCELONA - ECPv6.11.2.1//NONSGML v1.0//EN
CALSCALE:GREGORIAN
METHOD:PUBLISH
X-WR-CALNAME:AGRUPACIÓ CULTURAL FOLKLÒRICA BARCELONA
X-ORIGINAL-URL:https://acfbarcelona.cat
X-WR-CALDESC:Esdeveniments per AGRUPACIÓ CULTURAL FOLKLÒRICA BARCELONA
REFRESH-INTERVAL;VALUE=DURATION:PT1H
X-Robots-Tag:noindex
X-PUBLISHED-TTL:PT1H
BEGIN:VTIMEZONE
TZID:Europe/Madrid
BEGIN:DAYLIGHT
TZOFFSETFROM:+0100
TZOFFSETTO:+0200
TZNAME:CEST
DTSTART:20250330T010000
END:DAYLIGHT
BEGIN:STANDARD
TZOFFSETFROM:+0200
TZOFFSETTO:+0100
TZNAME:CET
DTSTART:20251026T010000
END:STANDARD
END:VTIMEZONE
BEGIN:VEVENT
DTSTART;TZID=Europe/Madrid:20250407T190000
DTEND;TZID=Europe/Madrid:20250407T210000
DTSTAMP:20260420T122725
CREATED:20250114T200254Z
LAST-MODIFIED:20250114T200254Z
UID:10000048-1744052400-1744059600@acfbarcelona.cat
SUMMARY:75è ANIVERSARI OBRA DEL BALLET POPULAR I MIL·LENARI DE MONTSERRAT
DESCRIPTION:CICLE DE COBLA A BARCELONA TEATRE CASINO L’ALIANÇA DE POBLE NOU \n7 d’abril de 2025 – 19h\n75è ANIVERSARI OBRA DEL BALLET\nPOPULAR I MIL·LENARI DE MONTSERRAT\nCobla Sant Jordi – Ciutat de Barcelona \nENTRADA TAQUILLA INVERSA  A TRAVÉS D’ENTRAPOLIS
URL:https://acfbarcelona.cat/esdeveniment/75e-aniversari-obra-del-ballet-popular-i-mil%c2%b7lenari-de-montserrat/
END:VEVENT
END:VCALENDAR