BEGIN:VCALENDAR
VERSION:2.0
PRODID:-//AGRUPACIÓ CULTURAL FOLKLÒRICA BARCELONA - ECPv6.11.2.1//NONSGML v1.0//EN
CALSCALE:GREGORIAN
METHOD:PUBLISH
X-ORIGINAL-URL:https://acfbarcelona.cat
X-WR-CALDESC:Esdeveniments per AGRUPACIÓ CULTURAL FOLKLÒRICA BARCELONA
REFRESH-INTERVAL;VALUE=DURATION:PT1H
X-Robots-Tag:noindex
X-PUBLISHED-TTL:PT1H
BEGIN:VTIMEZONE
TZID:Europe/Madrid
BEGIN:DAYLIGHT
TZOFFSETFROM:+0100
TZOFFSETTO:+0200
TZNAME:CEST
DTSTART:20250330T010000
END:DAYLIGHT
BEGIN:STANDARD
TZOFFSETFROM:+0200
TZOFFSETTO:+0100
TZNAME:CET
DTSTART:20251026T010000
END:STANDARD
END:VTIMEZONE
BEGIN:VEVENT
DTSTART;TZID=Europe/Madrid:20250412T080000
DTEND;TZID=Europe/Madrid:20250412T170000
DTSTAMP:20260420T122905
CREATED:20250114T174320Z
LAST-MODIFIED:20250114T174320Z
UID:10000034-1744444800-1744477200@acfbarcelona.cat
SUMMARY:Castellserà La Casa dels Àngels - Mag Lari
DESCRIPTION:SECCIÓ TURISME CULTURAL VOLTANT PER CATALUNYA \nLa màgia arribarà amb la visita d’abril. Anirem a veure la casa dels Àngels de Mag Lari al poble de Castellserà \nPer a més informació i inscripcions truqueu a la M. Rosa (629 217 408). \n  \n*Ens reservem el dret de modificar dates i visites si les circumstàncies ho requereixen.Donat el cas serieu avisats amb antelació.
URL:https://acfbarcelona.cat/esdeveniment/castellsera-la-casa-dels-angels-mag-lari/
END:VEVENT
BEGIN:VEVENT
DTSTART;TZID=Europe/Madrid:20250412T180000
DTEND;TZID=Europe/Madrid:20250412T200000
DTSTAMP:20260420T122905
CREATED:20250115T141135Z
LAST-MODIFIED:20250326T174048Z
UID:10000064-1744480800-1744488000@acfbarcelona.cat
SUMMARY:CICLE DE BALLADES AL PLA DE LA CATEDRAL
DESCRIPTION:BALLADA DE SARDANES AL PLA DE LA CATEDRAL \nCobla: La Principal del Llobregat \nLloc: Pla de la Seu\, s/n \nHorari: 18:00 a 20:00 \nPodeu consultar el programa aquí
URL:https://acfbarcelona.cat/esdeveniment/cobla-la-principal-del-llobregat-lloc-pla-de-la-seu-s-n-horari-1800-a-2000/
CATEGORIES:BALLADES DE SARDANES
END:VEVENT
END:VCALENDAR