BEGIN:VCALENDAR
VERSION:2.0
PRODID:-//AGRUPACIÓ CULTURAL FOLKLÒRICA BARCELONA - ECPv6.11.2.1//NONSGML v1.0//EN
CALSCALE:GREGORIAN
METHOD:PUBLISH
X-WR-CALNAME:AGRUPACIÓ CULTURAL FOLKLÒRICA BARCELONA
X-ORIGINAL-URL:https://acfbarcelona.cat
X-WR-CALDESC:Esdeveniments per AGRUPACIÓ CULTURAL FOLKLÒRICA BARCELONA
REFRESH-INTERVAL;VALUE=DURATION:PT1H
X-Robots-Tag:noindex
X-PUBLISHED-TTL:PT1H
BEGIN:VTIMEZONE
TZID:Europe/Madrid
BEGIN:DAYLIGHT
TZOFFSETFROM:+0100
TZOFFSETTO:+0200
TZNAME:CEST
DTSTART:20250330T010000
END:DAYLIGHT
BEGIN:STANDARD
TZOFFSETFROM:+0200
TZOFFSETTO:+0100
TZNAME:CET
DTSTART:20251026T010000
END:STANDARD
END:VTIMEZONE
BEGIN:VEVENT
DTSTART;TZID=Europe/Madrid:20250628T170000
DTEND;TZID=Europe/Madrid:20250628T190000
DTSTAMP:20260420T164321
CREATED:20250126T100319Z
LAST-MODIFIED:20250526T130038Z
UID:10000081-1751130000-1751137200@acfbarcelona.cat
SUMMARY:BALLADA FESTA MAJOR CIUTAT VELLA
DESCRIPTION:BALLADA DE SARDANES A SANT AGUSTÍ VELL\nCobla: Marinada\nLloc: Plaça de Sant Agustí Vell\nHorari: 17:00 a 19:00
URL:https://acfbarcelona.cat/esdeveniment/ballada-festa-major-ciutat-vella/
CATEGORIES:BALLADES DE SARDANES
END:VEVENT
END:VCALENDAR