BEGIN:VCALENDAR
VERSION:2.0
PRODID:-//AGRUPACIÓ CULTURAL FOLKLÒRICA BARCELONA - ECPv6.11.2.1//NONSGML v1.0//EN
CALSCALE:GREGORIAN
METHOD:PUBLISH
X-ORIGINAL-URL:https://acfbarcelona.cat
X-WR-CALDESC:Esdeveniments per AGRUPACIÓ CULTURAL FOLKLÒRICA BARCELONA
REFRESH-INTERVAL;VALUE=DURATION:PT1H
X-Robots-Tag:noindex
X-PUBLISHED-TTL:PT1H
BEGIN:VTIMEZONE
TZID:Europe/Madrid
BEGIN:DAYLIGHT
TZOFFSETFROM:+0100
TZOFFSETTO:+0200
TZNAME:CEST
DTSTART:20250330T010000
END:DAYLIGHT
BEGIN:STANDARD
TZOFFSETFROM:+0200
TZOFFSETTO:+0100
TZNAME:CET
DTSTART:20251026T010000
END:STANDARD
END:VTIMEZONE
BEGIN:VEVENT
DTSTART;TZID=Europe/Madrid:20250914T111500
DTEND;TZID=Europe/Madrid:20250914T130000
DTSTAMP:20260420T214525
CREATED:20250707T071000Z
LAST-MODIFIED:20250911T061415Z
UID:10000089-1757848500-1757854800@acfbarcelona.cat
SUMMARY:BALLADA DE SARDANES AL PLA DE LA CATEDRAL - 14 de setembre de 2025
DESCRIPTION:CICLE DE BALLADES AL PLA DE LA CATEDRAL\n\nBALLADA DE SARDANES AL PLA DE LA CATEDRAL – 14 de setembre de 2025 \nCobla: Sol de Banyuls\nLloc: Pla de la Seu\, s/n\nHorari: 11:15 a 13:00 \nAquí podràs trobar tot el calendari del Cicle de Ballades al Pla de la Catedral. Consulta també la nostra agenda per estar al dia de totes les activitats de l’Agrupació i l’agenda de SomSardana per conèixer tots els actes sardanistes de Catalunya. \nConsulta la nostra pàgina d’Instagram per estar al dia del Cicle de Ballades al Pla de la Catedral i de totes les activitats. \n \nEl cicle SARDANES A LA CATEDRAL consisteix en audicions de sardanes organitzades per l’Agrupació Cultural Folklòrica Barcelona durant el període de primavera-tardor. Normalment\, cada ballada de sardanes comença a les 18h els dissabtes i 11.15 h els diumenges\, tret de casos concrets. A més a més\, comencem amb una audició doble especial per Santa Eulàlia i donem el tret de sortida oficial del cicle a mitjans de març. \nD’altra banda\, cada any\, durant la segona setmana de juny\, duem a terme l’Aplec al Pla de la Catedral. Sempre oferim un repertori amè i variat per a tot el públic. Així mateix\, donem visibilitat a una gran varietat de compositors i compositores a través dels nostres repertoris\, interpretant des de compositors clàssics fins als més contemporanis. \nA més\, posem a la disposició de tothom l’accés a les ballades per fer celebracions\, homenatges i estrenes. Si t’interessa\, contacta amb nosaltres a través de ballades@acfbarcelona.cat. \nNo ho dubtis més! Vine a ballar sardanes amb l’Agrupació Cultural Folklòrica Barcelona. Trobareu totes les dates a la nostra agenda clicant aquí.
URL:https://acfbarcelona.cat/esdeveniment/ballada-de-sardanes-14-setembre-2025/
CATEGORIES:BALLADES DE SARDANES
ATTACH;FMTTYPE=image/jpeg:https://acfbarcelona.cat/wp-content/uploads/2025/07/DSC_7631_-scaled.jpg
END:VEVENT
END:VCALENDAR