BEGIN:VCALENDAR
VERSION:2.0
PRODID:-//AGRUPACIÓ CULTURAL FOLKLÒRICA BARCELONA - ECPv6.11.2.1//NONSGML v1.0//EN
CALSCALE:GREGORIAN
METHOD:PUBLISH
X-ORIGINAL-URL:https://acfbarcelona.cat
X-WR-CALDESC:Esdeveniments per AGRUPACIÓ CULTURAL FOLKLÒRICA BARCELONA
REFRESH-INTERVAL;VALUE=DURATION:PT1H
X-Robots-Tag:noindex
X-PUBLISHED-TTL:PT1H
BEGIN:VTIMEZONE
TZID:Europe/Madrid
BEGIN:DAYLIGHT
TZOFFSETFROM:+0100
TZOFFSETTO:+0200
TZNAME:CEST
DTSTART:20250330T010000
END:DAYLIGHT
BEGIN:STANDARD
TZOFFSETFROM:+0200
TZOFFSETTO:+0100
TZNAME:CET
DTSTART:20251026T010000
END:STANDARD
END:VTIMEZONE
BEGIN:VEVENT
DTSTART;TZID=Europe/Madrid:20250927T080000
DTEND;TZID=Europe/Madrid:20250927T170000
DTSTAMP:20260420T214524
CREATED:20250909T090030Z
LAST-MODIFIED:20250909T090242Z
UID:10000107-1758960000-1758992400@acfbarcelona.cat
SUMMARY:Xino-Xano: Caldes de Montbui i la zona termal
DESCRIPTION:Xino-Xano del Grup de Muntanya\nEl Grup de Muntanya és una Secció de l’Agrupació Cultural Folklòrica Barcelona dedicada a l’excursionisme. Últimament s’han impulsat les sortides anomenades “Xino-Xano”\, menys exigents i obertes a tots els públics que han tingut molt bona acollida. Els desplaçaments es fan en transport públic\, i les caminades són senzilles i accessibles\, acabant la  caminada amb un dinar tots plegats. \nCaldes de Montbui: la zona termal\nCaldes de Montbui és una vila que\, a poc més de 30 km de Barcelona\, gira des de temps remots entorn de l’aigua calenta. Té el privilegi de ser el primer poble termal de Catalunya i de posseir les termes romanes més ben conservades de la península Ibèrica. Aquest atractiu es completa amb altres al·licients que fan de la vila termal un centre turístic\, cultural\, esportiu i natural. \nInformació i Inscripcions\nPer a més informació i inscripcions sobre aquesta emocionant passejada\, podeu contactar amb l’Agrupació a través del correu activitats@acfbarcelona.cat. Com sempre\, ens reservem el dret de modificar dates i visites si les circumstàncies ho requereixen. En aquest cas\, seríeu avisats amb la màxima antelació possible per garantir la vostra comoditat. \nNo et perdis cap activitat del Grup de Muntanya!\nPer estar sempre al dia de totes les novetats sobre les nostres properes excursions\, com la passejada per Caldes de Montbui\, i totes les propostes de la nostra Agrupació\, et convidem a: \n\nConsultar l’agenda completa: Trobareu totes les nostres sortides programades a la nostra Agenda de Muntanya.\nSeguir-nos a les xarxes socials: Descobreix les nostres fotos i vídeos més recents al nostre Instagram.\nExplorar el nostre blog del Grup de Muntanya: Llegeix cròniques d’altres sortides i descobreix els nostres destins al Blog del Grup de Munyanya. \nMantenir-te informat amb les circulars: Per a tots els detalls i avisos importants\, consulta les nostres Circulars Informatives.\nVisitar la nostra web principal: Descobreix tot el que la nostra Agrupació t’ofereix a la web principal de l’Agrupació Cultural Folklòrica Barcelona.
URL:https://acfbarcelona.cat/esdeveniment/xino-xano-caldes-de-montbui-i-la-zona-termal/
CATEGORIES:Muntanya
ATTACH;FMTTYPE=image/jpeg:https://acfbarcelona.cat/wp-content/uploads/2025/09/Xino-Xano-Caldes-de-Montbui-i-la-zona-termal.jpeg
END:VEVENT
END:VCALENDAR