BEGIN:VCALENDAR
VERSION:2.0
PRODID:-//AGRUPACIÓ CULTURAL FOLKLÒRICA BARCELONA - ECPv6.11.2.1//NONSGML v1.0//EN
CALSCALE:GREGORIAN
METHOD:PUBLISH
X-ORIGINAL-URL:https://acfbarcelona.cat
X-WR-CALDESC:Esdeveniments per AGRUPACIÓ CULTURAL FOLKLÒRICA BARCELONA
REFRESH-INTERVAL;VALUE=DURATION:PT1H
X-Robots-Tag:noindex
X-PUBLISHED-TTL:PT1H
BEGIN:VTIMEZONE
TZID:Europe/Madrid
BEGIN:DAYLIGHT
TZOFFSETFROM:+0100
TZOFFSETTO:+0200
TZNAME:CEST
DTSTART:20250330T010000
END:DAYLIGHT
BEGIN:STANDARD
TZOFFSETFROM:+0200
TZOFFSETTO:+0100
TZNAME:CET
DTSTART:20251026T010000
END:STANDARD
END:VTIMEZONE
BEGIN:VEVENT
DTSTART;TZID=Europe/Madrid:20251107T183000
DTEND;TZID=Europe/Madrid:20251107T200000
DTSTAMP:20260421T011425
CREATED:20251022T095655Z
LAST-MODIFIED:20251107T061043Z
UID:10000112-1762540200-1762545600@acfbarcelona.cat
SUMMARY:Pregó del 103è Aniversari: Homenatge a Antoni Anguela amb Pere Baltà
DESCRIPTION:Pregó 103è Aniversari Agrupació\nA l’espera de la celebració del 103è aniversari de l’Agrupació\, us convidem a l’acte d’obertura oficial\, el nostre Pregó d’aniversari\, que tindrà lloc el pròxim divendres\, 7 de novembre\, a les 18:30 h. Aquest discurs inaugural marca l’inici d’una sèrie de celebracions per commemorar més d’un segle d’història i dedicació a la cultura popular. \nEnguany\, el pregó se centra a retre un sentit homenatge a la figura de l’Antoni Anguela\, qui va ser president de la nostra entitat del 2001 al 2010. En el 15è aniversari del seu traspàs\, volem recordar el seu llegat\, la seva visió i la seva incansable dedicació\, que van marcar un abans i un després en la trajectòria de la nostra entitat. El seu compromís amb els nostres valors fundacionals continua sent una font d’inspiració per a tots nosaltres. \nEl pregoner: En Pere Baltà\nL’acte anirà a càrrec de Pere Baltà\, reconegut periodista\, escriptor i estudiós de la cultura popular catalana. Amic personal i company de feina de l’Antoni Anguela\, la seva trajectòria professional està estretament vinculada a la promoció cultural: ha estat Director del Servei de Promoció Cultural de la Generalitat de Catalunya (1980-1985)\, membre del Consell Assessor de la Cultura Popular de la Generalitat\, i actualment presideix la Fundació Paco Candel i és membre de la Roda Fundació. La seva presència és un honor i un reconeixement a la important tasca que Antoni Anguela va dur a terme a la nostra entitat. \nAquest pregó és una oportunitat per reunir-nos\, compartir records i celebrar la rica història de la nostra Agrupació. Tots els socis\, amics i amants de la cultura popular sou benvinguts a un acte que posarà en valor el nostre passat per construir el futur. Us esperem per iniciar plegats aquesta gran celebració! \nPer si voleu anar coneixent al senyor Pere Baltà aquí teniu una entrevista al programa Veus de la cultura popular\, 6 \n\n  \nDescobreix l’Agrupació més enllà del Centenari\nMés enllà de la celebració del nostre aniversari\, us convidem a explorar totes les facetes de la nostra entitat. Volem que la nostra agenda cultural sigui el punt de partida per a un viatge per la nostra història\, les nostres passions i les nostres propostes. \nSi vols estar al dia de totes les nostres activitats\, el més senzill és seguir les nostres Circulars o consultar la nostra Agenda\, que mantenim actualitzada amb tots els esdeveniments. \nSi t’apassiona la cultura i la història\, endinsa’t en les nostres seccions més emblemàtiques\, com les Ballades al Pla de la Catedral\, l’associació dels Amics dels Concerts o la memòria del nostre estimat Memorial Joaquim Serra. \nPer als amants de la natura i l’aventura\, la Secció de Muntanya i la de Turisme cultural t’ofereixen l’oportunitat de descobrir els racons més bonics de la nostra terra i la seva gastronomia. \nI si el teu món són les arts escèniques\, tenim el Grup de Teatre Eduard Costa i l’espai Dramaturgs\, on podràs gaudir de la creativitat i el talent dels nostres membres. \nUs convidem a descobrir-ho tot! \n 
URL:https://acfbarcelona.cat/esdeveniment/prego-del-103e-aniversari-homenatge-a-antoni-anguela-amb-pere-balta/
LOCATION:Casa de la Sardana\, Pou de la Figuera 15 Local\, Barcelona\, Barcelona\, 08003\, Spain
ATTACH;FMTTYPE=image/jpeg:https://acfbarcelona.cat/wp-content/uploads/2025/09/19-Antoni-Anguela-2001-e1757489108561.jpg
END:VEVENT
END:VCALENDAR