BEGIN:VCALENDAR
VERSION:2.0
PRODID:-//AGRUPACIÓ CULTURAL FOLKLÒRICA BARCELONA - ECPv6.11.2.1//NONSGML v1.0//EN
CALSCALE:GREGORIAN
METHOD:PUBLISH
X-WR-CALNAME:AGRUPACIÓ CULTURAL FOLKLÒRICA BARCELONA
X-ORIGINAL-URL:https://acfbarcelona.cat
X-WR-CALDESC:Esdeveniments per AGRUPACIÓ CULTURAL FOLKLÒRICA BARCELONA
REFRESH-INTERVAL;VALUE=DURATION:PT1H
X-Robots-Tag:noindex
X-PUBLISHED-TTL:PT1H
BEGIN:VTIMEZONE
TZID:Europe/Madrid
BEGIN:DAYLIGHT
TZOFFSETFROM:+0100
TZOFFSETTO:+0200
TZNAME:CEST
DTSTART:20260329T010000
END:DAYLIGHT
BEGIN:STANDARD
TZOFFSETFROM:+0200
TZOFFSETTO:+0100
TZNAME:CET
DTSTART:20261025T010000
END:STANDARD
END:VTIMEZONE
BEGIN:VEVENT
DTSTART;TZID=Europe/Madrid:20260112T190000
DTEND;TZID=Europe/Madrid:20260112T203000
DTSTAMP:20260421T043431
CREATED:20251211T183955Z
LAST-MODIFIED:20251218T173455Z
UID:10000119-1768244400-1768249800@acfbarcelona.cat
SUMMARY:C.D. JORDI LEÓN - Sardanes Vol. 3
DESCRIPTION:PRESENTACIÓ DEL CD SARDANES VOL3 \nsardanes de JORDI LEÓN \ncobla SANT JORDI – CIUTAT DE BARCELONA \nEs tracta d’un enregistrament de la Cobla Sant Jordi – Ciutat de Barcelona amb sardanes escrites perl Jordi León i dues de Josep M. Mestre – Miret que van ser instrumentades per Jordi León i varen ser premiades als concursos Joaquim Serra i Francesc Basil. \nEll mateix escriu: El fet d’haver tingut\, durant els darrers anys\, nombrosos encàrrecs m’han dut a estrenar un bon reguitzell de sardanes que\, sumandes a les que he escrit per iniciativa pròpia\, configuren el corpus essencial d’aquest enregistrament\, àdhuc la recuperació fonogràfica d’alguna sardana de joventut. També hi he volgut afegir les dues úniques composicions sardanístiques de Josep M. MEstre-Miret\, que\, datades a finals del 80 i instrumentades per mi\, apareixen enregistraes per primera vegada. \nLa Cobla Sant Jordi serà dirigida pel propi Jordi León i el concert serà presentat per Ignasi Pinyol. \n ENTRADES\nNo et perdis cap concert\, si vols estar informat de i rebre informació del Cicle de Cobla a Barcelona descarregat el programa \nSi vols estar al dia de totes les activitats que fem no t’oblidis de consultar la nostra agenda
URL:https://acfbarcelona.cat/esdeveniment/c-d-jordi-leon-sardanes-vol-3/
LOCATION:Teatre Casino l’Aliança del Poblenou\, Rambla del Poblenou\, 42\, BARCELONA\, BARCELONA\, 08005\, Spain
CATEGORIES:AMICS DELS CONCERTS
ATTACH;FMTTYPE=image/png:https://acfbarcelona.cat/wp-content/uploads/2025/12/01_Jordi-Leon_CARTELL.png
END:VEVENT
END:VCALENDAR