BEGIN:VCALENDAR
VERSION:2.0
PRODID:-//AGRUPACIÓ CULTURAL FOLKLÒRICA BARCELONA - ECPv6.11.2.1//NONSGML v1.0//EN
CALSCALE:GREGORIAN
METHOD:PUBLISH
X-ORIGINAL-URL:https://acfbarcelona.cat
X-WR-CALDESC:Esdeveniments per AGRUPACIÓ CULTURAL FOLKLÒRICA BARCELONA
REFRESH-INTERVAL;VALUE=DURATION:PT1H
X-Robots-Tag:noindex
X-PUBLISHED-TTL:PT1H
BEGIN:VTIMEZONE
TZID:Europe/Madrid
BEGIN:DAYLIGHT
TZOFFSETFROM:+0100
TZOFFSETTO:+0200
TZNAME:CEST
DTSTART:20260329T010000
END:DAYLIGHT
BEGIN:STANDARD
TZOFFSETFROM:+0200
TZOFFSETTO:+0100
TZNAME:CET
DTSTART:20261025T010000
END:STANDARD
END:VTIMEZONE
BEGIN:VEVENT
DTSTART;TZID=Europe/Madrid:20260128T190000
DTEND;TZID=Europe/Madrid:20260128T200000
DTSTAMP:20260421T043132
CREATED:20251218T174856Z
LAST-MODIFIED:20251218T174856Z
UID:10000129-1769626800-1769630400@acfbarcelona.cat
SUMMARY:LA PLOMA DE LA PERDIU
DESCRIPTION:ACTIVITATS A LA CASA DE LA SARDANA\nEl dimecres 28 de gener del 2026\, a les 19 h\, els músics Marc Egea i Quirze Egea oferiran un concert amb veu\, viola de roda i tenora. \nProposta musical amb cançons tradicionals i alguna composició instrumental pròpia que combina tradició i innovació en un directe singular. Aquest és un acte amb taquilla inversa. \n  \nNo et perdis cap acte\, consulta la nostra agenda \n  \n 
URL:https://acfbarcelona.cat/esdeveniment/la-ploma-de-la-perdiu/
LOCATION:Casa de la Sardana\, Pou de la Figuera 15 Local\, Barcelona\, Barcelona\, 08003\, Spain
CATEGORIES:CASA DE LA SARDANA
ATTACH;FMTTYPE=image/jpeg:https://acfbarcelona.cat/wp-content/uploads/2025/12/La-ploma-i.jpg
END:VEVENT
END:VCALENDAR