BEGIN:VCALENDAR
VERSION:2.0
PRODID:-//AGRUPACIÓ CULTURAL FOLKLÒRICA BARCELONA - ECPv6.11.2.1//NONSGML v1.0//EN
CALSCALE:GREGORIAN
METHOD:PUBLISH
X-WR-CALNAME:AGRUPACIÓ CULTURAL FOLKLÒRICA BARCELONA
X-ORIGINAL-URL:https://acfbarcelona.cat
X-WR-CALDESC:Esdeveniments per AGRUPACIÓ CULTURAL FOLKLÒRICA BARCELONA
REFRESH-INTERVAL;VALUE=DURATION:PT1H
X-Robots-Tag:noindex
X-PUBLISHED-TTL:PT1H
BEGIN:VTIMEZONE
TZID:Europe/Madrid
BEGIN:DAYLIGHT
TZOFFSETFROM:+0100
TZOFFSETTO:+0200
TZNAME:CEST
DTSTART:20260329T010000
END:DAYLIGHT
BEGIN:STANDARD
TZOFFSETFROM:+0200
TZOFFSETTO:+0100
TZNAME:CET
DTSTART:20261025T010000
END:STANDARD
END:VTIMEZONE
BEGIN:VEVENT
DTSTART;TZID=Europe/Madrid:20260419T111500
DTEND;TZID=Europe/Madrid:20260419T131500
DTSTAMP:20260421T093301
CREATED:20260304T154405Z
LAST-MODIFIED:20260304T160252Z
UID:10000143-1776597300-1776604500@acfbarcelona.cat
SUMMARY:CICLE BALLADES 2026
DESCRIPTION:Cicle anual de ballades al Pla de la Catedral 2026 \nDiumenge 19 d’abril ens acompanya la Cobla La Principal del Llobregat \nHorari: de 11:15 a 13:15 \nLloc: Pla de la Catedral \nPodeu consultar i descarregar el programa aquí
URL:https://acfbarcelona.cat/esdeveniment/cicle-de-ballades-2026-4/
CATEGORIES:BALLADES DE SARDANES
ATTACH;FMTTYPE=image/jpeg:https://acfbarcelona.cat/wp-content/uploads/2026/02/FB_IMG_1742164599156.jpg
END:VEVENT
END:VCALENDAR