BEGIN:VCALENDAR
VERSION:2.0
PRODID:-//AGRUPACIÓ CULTURAL FOLKLÒRICA BARCELONA - ECPv6.11.2.1//NONSGML v1.0//EN
CALSCALE:GREGORIAN
METHOD:PUBLISH
X-WR-CALNAME:AGRUPACIÓ CULTURAL FOLKLÒRICA BARCELONA
X-ORIGINAL-URL:https://acfbarcelona.cat
X-WR-CALDESC:Esdeveniments per AGRUPACIÓ CULTURAL FOLKLÒRICA BARCELONA
REFRESH-INTERVAL;VALUE=DURATION:PT1H
X-Robots-Tag:noindex
X-PUBLISHED-TTL:PT1H
BEGIN:VTIMEZONE
TZID:Europe/Madrid
BEGIN:DAYLIGHT
TZOFFSETFROM:+0100
TZOFFSETTO:+0200
TZNAME:CEST
DTSTART:20240331T010000
END:DAYLIGHT
BEGIN:STANDARD
TZOFFSETFROM:+0200
TZOFFSETTO:+0100
TZNAME:CET
DTSTART:20241027T010000
END:STANDARD
BEGIN:DAYLIGHT
TZOFFSETFROM:+0100
TZOFFSETTO:+0200
TZNAME:CEST
DTSTART:20250330T010000
END:DAYLIGHT
BEGIN:STANDARD
TZOFFSETFROM:+0200
TZOFFSETTO:+0100
TZNAME:CET
DTSTART:20251026T010000
END:STANDARD
END:VTIMEZONE
BEGIN:VEVENT
DTSTART;TZID=Europe/Madrid:20241116T074500
DTEND;TZID=Europe/Madrid:20241116T190000
DTSTAMP:20260421T063204
CREATED:20241002T101721Z
LAST-MODIFIED:20241002T101721Z
UID:10000012-1731743100-1731783600@acfbarcelona.cat
SUMMARY:TURISME CULTURAL - L'ESPLUGA DE FRANCOLÍ
DESCRIPTION:Sortida: L’Espluga de Francolí – Museu de la Vida Rural \n  \n  \n  \nMuseu de la Vida Rural: https://museuterra.cat/ \nPer a més informació i inscripcions truqueu a la M. Rosa (629217408). \n*Ens reservem el dret de modificar dates i visites si les circumstàncies ho requereixen. Donat el cas serieu avisats amb antelació.
URL:https://acfbarcelona.cat/esdeveniment/turisme-cultural-lespluga-de-francoli/
END:VEVENT
BEGIN:VEVENT
DTSTART;TZID=Europe/Madrid:20241125T190000
DTEND;TZID=Europe/Madrid:20241125T203000
DTSTAMP:20260421T063204
CREATED:20241002T112621Z
LAST-MODIFIED:20241002T114033Z
UID:10000021-1732561200-1732566600@acfbarcelona.cat
SUMMARY:CONCERTS A L'ALIANÇA DEL POBLENOU - MEMORIAL JOAQUIM SERRA
DESCRIPTION:Concert: MEMORIAL JOAQUIM SERRA 2024 \nCOMMEMORANT ELS 150 ANYS DEL NAIXEMENT DE JOSEP SERRA I BONAL I ELS 125 ANYS DEL NAIXEMENT DE RICARD LAMOTE DE GRIGNON \nCobla: Cobla Sant Jordi – Ciutat de Barcelona i Mediterrània \nEntrades a: Trucar a l’Agrupació Cultural Folklòrica Barcelona\, de dilluns a dijous de 16:15 a 19:30 o enviar un correu electrònic a agrupacio@acfbarcelona.cat indicant el nom i número d’entrades.  \nLes entrades es recolliran el mateix dia 25/11 30 minuts abans de l’esdeveniment a l’entrada. \nPresentació: Per descarregar programa clicar aquí \n  \n  \n 
URL:https://acfbarcelona.cat/esdeveniment/concerts-a-lalianca-del-poblenou-memorial-joaquim-serra/
LOCATION:Teatre Casino l’Aliança del Poblenou\, Rambla del Poblenou\, 42\, BARCELONA\, BARCELONA\, 08005\, Spain
END:VEVENT
BEGIN:VEVENT
DTSTART;TZID=Europe/Madrid:20241209T190000
DTEND;TZID=Europe/Madrid:20241209T203000
DTSTAMP:20260421T063204
CREATED:20241002T114647Z
LAST-MODIFIED:20241002T114739Z
UID:10000022-1733770800-1733776200@acfbarcelona.cat
SUMMARY:CONCERTS A L'ALIANÇA DEL POBLENOU - COBLA I VEUS
DESCRIPTION:Concert: COBLA I VEUS. Un circ d’emocions \nVeus: Noelia Mora\, Victòria Huguet\, Xavier Dealbert\, Miquel Gili \nCobla: Selvatana \nEntrades a: https://www.entrapolis.com/ \nPresentació: Per descarregar programa clicar aquí \nOpuscle Temporada \n  \n 
URL:https://acfbarcelona.cat/esdeveniment/concerts-a-lalianca-del-poblenou-cobla-i-veus/
LOCATION:Teatre Casino l’Aliança del Poblenou\, Rambla del Poblenou\, 42\, BARCELONA\, BARCELONA\, 08005\, Spain
END:VEVENT
BEGIN:VEVENT
DTSTART;TZID=Europe/Madrid:20241216T190000
DTEND;TZID=Europe/Madrid:20241216T200000
DTSTAMP:20260421T063204
CREATED:20241002T114959Z
LAST-MODIFIED:20241002T114959Z
UID:10000023-1734375600-1734379200@acfbarcelona.cat
SUMMARY:CONCERTS A L'ALIANÇA DEL POBLENOU - CONCERT DE NADAL
DESCRIPTION:Concert: CONCERT DE NADAL \nCobla: Cobla Sant Jordi – Ciutat de Barcelona i Cobla Conservatori MMB \nEntrades a: https://www.entrapolis.com/ \nPrograma: Per descarregar programa clicar aquí \n  \n  \n 
URL:https://acfbarcelona.cat/esdeveniment/concerts-a-lalianca-del-poblenou-concert-de-nadal/
LOCATION:Teatre Casino l’Aliança del Poblenou\, Rambla del Poblenou\, 42\, BARCELONA\, BARCELONA\, 08005\, Spain
END:VEVENT
BEGIN:VEVENT
DTSTART;TZID=Europe/Madrid:20241220T070000
DTEND;TZID=Europe/Madrid:20241222T170000
DTSTAMP:20260421T063204
CREATED:20241002T102251Z
LAST-MODIFIED:20241002T102426Z
UID:10000013-1734678000-1734886800@acfbarcelona.cat
SUMMARY:TURISME CULTURAL - SANTA COLOMA DE FARNERS
DESCRIPTION:Sortida: Santa Coloma de Farners – Visita a l’Espai Ratafia i Galetes Trias \n  \n  \n  \n  \nPer a més informació i inscripcions truqueu a la M. Rosa (629217408). \n*Ens reservem el dret de modificar dates i visites si les circumstàncies ho requereixen. Donat el cas serieu avisats amb antelació.
URL:https://acfbarcelona.cat/esdeveniment/turisme-cultural-santa-coloma-de-farners/
END:VEVENT
BEGIN:VEVENT
DTSTART;TZID=Europe/Madrid:20250113T190000
DTEND;TZID=Europe/Madrid:20250113T210000
DTSTAMP:20260421T063204
CREATED:20250114T194401Z
LAST-MODIFIED:20250115T081303Z
UID:10000042-1736794800-1736802000@acfbarcelona.cat
SUMMARY:PRESENTACIÓ CD FA 660 ANYS
DESCRIPTION:CICLE DE COBLA A BARCELONA TEATRE CASINO L’ALIANÇA DE POBLE NOU \n13 de gener de 2025 – 19h\nCD FA 660 ANYS | Salvador Brotons\nCobla Sant Jordi – Ciutat de Barcelona \nPodeu veure i descarregar el programa clicant aquí \nENTRA TAQUILLA INVERSA \n 
URL:https://acfbarcelona.cat/esdeveniment/presentacio-cd-fa-660-anys/
END:VEVENT
BEGIN:VEVENT
DTSTART;TZID=Europe/Madrid:20250118T080000
DTEND;TZID=Europe/Madrid:20250118T170000
DTSTAMP:20260421T063204
CREATED:20250114T171903Z
LAST-MODIFIED:20250114T172243Z
UID:10000031-1737187200-1737219600@acfbarcelona.cat
SUMMARY:Calçotada i visita al Pont d’Armentera
DESCRIPTION:SECCIÓ TURISME CULTURAL VOLTANT PER CATALUNYA \nLa primera sortida de l’any de la secció Turisme Cultural de l’Agrupació Cultural Folklòrica Barcelona\, serà per visitar el Pont d’Armentera i gaudir d’una calçotada \n  \nPer a més informació i inscripcions truqueu a la M. Rosa (629 217 408). \n  \n*Ens reservem el dret de modificar dates i visites si les circumstàncies ho requereixen.Donat el cas serieu avisats amb antelació* \n 
URL:https://acfbarcelona.cat/esdeveniment/calcotada-i-visita-al-pont-darmentera/
CATEGORIES:Turisme Cultural
END:VEVENT
BEGIN:VEVENT
DTSTART;TZID=Europe/Madrid:20250120T170000
DTEND;TZID=Europe/Madrid:20250120T190000
DTSTAMP:20260421T063204
CREATED:20250114T194919Z
LAST-MODIFIED:20250115T080709Z
UID:10000043-1737392400-1737399600@acfbarcelona.cat
SUMMARY:GRANS CONJUNTS
DESCRIPTION:CICLE DE COBLA  A BARCELONA TEATRE CASINO L’ALIANÇA DE POBLE NOU \n20 de gener de 2025 – 17h\nGRANS CONJUNTS\nCobla de l’ESMUC \nPodeu veure i descarregar el programa clicant aquí \nENTRADA TAQUILLA INVERSA  A TRAVÉS D’ENTRAPOLIS
URL:https://acfbarcelona.cat/esdeveniment/grans-conjunts/
END:VEVENT
BEGIN:VEVENT
DTSTART;TZID=Europe/Madrid:20250209T160000
DTEND;TZID=Europe/Madrid:20250209T190000
DTSTAMP:20260421T063204
CREATED:20250115T082538Z
LAST-MODIFIED:20250125T081257Z
UID:10000055-1739116800-1739127600@acfbarcelona.cat
SUMMARY:BALLADA DE SARDANES SANTA EULÀLIA - PLAÇA SANT JAUME
DESCRIPTION:BALLADA DE SANTA EULÀLIA \nCobles: Mediterrània i Ciutat de Terrassa \nLloc: Plaça Sant Jaume \nHorari: 16:00 a 19:00 \nPodeu veure i descarregar el programa aquí \n 
URL:https://acfbarcelona.cat/esdeveniment/ballada-de-sardanes-santa-eulalia-placa-sant-jaume/
CATEGORIES:BALLADES DE SARDANES
END:VEVENT
BEGIN:VEVENT
DTSTART;TZID=Europe/Madrid:20250210T190000
DTEND;TZID=Europe/Madrid:20250210T210000
DTSTAMP:20260421T063204
CREATED:20250114T195300Z
LAST-MODIFIED:20250114T195300Z
UID:10000044-1739214000-1739221200@acfbarcelona.cat
SUMMARY:CD COL·LEGUES
DESCRIPTION:CICLE DE COBLA A BARCELONA TEATRE CASINO L’ALIANÇA DE POBLE NOU \n10 de febrer de 2025 – 19h\nCD COL·LEGUES\nSardanes de Jesús Ventura\nCobla Mediterrània \nENTRADA TAQUILLA INVERSA  A TRAVÉS D’ENTRAPOLIS
URL:https://acfbarcelona.cat/esdeveniment/cd-col%c2%b7legues/
END:VEVENT
BEGIN:VEVENT
DTSTART;TZID=Europe/Madrid:20250215T080000
DTEND;TZID=Europe/Madrid:20250215T170000
DTSTAMP:20260421T063204
CREATED:20250114T172532Z
LAST-MODIFIED:20250114T172532Z
UID:10000032-1739606400-1739638800@acfbarcelona.cat
SUMMARY:Igualada - Museu de la Pell
DESCRIPTION:SECCIÓ TURISME CULTURAL VOLTANT PER CATALUNYA \nAl febrer visitarem el Museu de la Pell a Igualada \n  \nPer a més informació i inscripcions truqueu a la M. Rosa (629 217 408). \n*Ens reservem el dret de modificar dates i visites si les circumstàncies ho requereixen.Donat el cas serieu avisats amb antelació.*
URL:https://acfbarcelona.cat/esdeveniment/igualada-museu-de-la-pell/
CATEGORIES:Turisme Cultural
END:VEVENT
BEGIN:VEVENT
DTSTART;TZID=Europe/Madrid:20250215T080000
DTEND;TZID=Europe/Madrid:20250215T170000
DTSTAMP:20260421T063204
CREATED:20250910T094659Z
LAST-MODIFIED:20250910T094659Z
UID:10000115-1739606400-1739638800@acfbarcelona.cat
SUMMARY:Xino-Xano: de Martorell a Sant Andreu de la Barca
DESCRIPTION:Xino-Xano del Grup de Muntanya\nEl Grup de Muntanya és una Secció de l’Agrupació Cultural Folklòrica Barcelona dedicada a l’excursionisme. Últimament s’han impulsat les sortides anomenades “Xino-Xano”\, menys exigents i obertes a tots els públics que han tingut molt bona acollida. Els desplaçaments es fan en transport públic\, i les caminades són senzilles i accessibles\, acabant la  caminada amb un dinar tots plegats. \nMartorell i Sant Andreu de la Barca\nMartorell és una vila de la comarca del Baix Llobregat\, considerada tradicionalment capital de facto de la subcomarca del Baix Llobregat Nord i proposada com a futura capital de la nova comarca del Montserratí o Pla de Montserrat. Es troba a la confluència dels rius Anoia i Llobregat\, on aquest darrer forma un congost de gran importància per a les comunicacions entre el Baix Llobregat\, el Vallès i el Penedès\, i\, per extensió\, l’interior del país i de la península amb Barcelona. \nSant Andreu de la Barca és un municipi de la comarca del Baix Llobregat a la dreta del Llobregat\, entre Martorell\, Castellbisbal\, Castellví de Rosanes i Corbera de Llobregat. Es troba limitat pel riu Llobregat i per les rieres del Palau i de Corbera\, que delimita\, com ja diu el seu nom\, amb Corbera del Llobregat. \nInformació i Inscripcions\nPer a més informació i inscripcions sobre aquesta emocionant passejada\, podeu contactar amb l’Agrupació a través del correu activitats@acfbarcelona.cat. Com sempre\, ens reservem el dret de modificar dates i visites si les circumstàncies ho requereixen. En aquest cas\, seríeu avisats amb la màxima antelació possible per garantir la vostra comoditat. \nNo et perdis cap activitat del Grup de Muntanya!\nPer estar sempre al dia de totes les novetats sobre les nostres properes excursions\, com la passejada per Martorell i Sant Andreu de la Barca\, i totes les propostes de la nostra Agrupació\, et convidem a: \n\nConsultar l’agenda completa: Trobareu totes les nostres sortides programades a la nostra Agenda de Muntanya.\nSeguir-nos a les xarxes socials: Descobreix les nostres fotos i vídeos més recents al nostre Instagram.\nExplorar el nostre blog del Grup de Muntanya: Llegeix cròniques d’altres sortides i descobreix els nostres destins al Blog del Grup de Munyanya. \nMantenir-te informat amb les circulars: Per a tots els detalls i avisos importants\, consulta les nostres Circulars Informatives.\nVisitar la nostra web principal: Descobreix tot el que la nostra Agrupació t’ofereix a la web principal de l’Agrupació Cultural Folklòrica Barcelona.
URL:https://acfbarcelona.cat/esdeveniment/xino-xano-de-martorell-a-sant-andreu-de-la-barca/
CATEGORIES:Muntanya
ATTACH;FMTTYPE=image/webp:https://acfbarcelona.cat/wp-content/uploads/2025/09/Xino-Xano-de-Martorell-a-Sant-Andreu-de-la-Barca.webp
END:VEVENT
BEGIN:VEVENT
DTSTART;TZID=Europe/Madrid:20250310T190000
DTEND;TZID=Europe/Madrid:20250310T210000
DTSTAMP:20260421T063204
CREATED:20250114T195454Z
LAST-MODIFIED:20250114T195454Z
UID:10000045-1741633200-1741640400@acfbarcelona.cat
SUMMARY:CARTA BLANCA A JOSEP A. SÁNCHEZ
DESCRIPTION:CICLE DE COBLA A BARCELONA TEATRE CASINO L’ALIANÇA DE POBLE NOU \n10 de març de 2025 – 19h\nCARTA BLANCA A JOSEP A. SÁNCHEZ\nCobla Sant Jordi – Ciutat de Barcelona \nENTRADA TAQUILLA INVERSA  A TRAVÉS D’ENTRAPOLIS
URL:https://acfbarcelona.cat/esdeveniment/carta-blanca-a-josep-a-sanchez/
END:VEVENT
BEGIN:VEVENT
DTSTART;TZID=Europe/Madrid:20250315T180000
DTEND;TZID=Europe/Madrid:20250315T200000
DTSTAMP:20260421T063204
CREATED:20250115T083757Z
LAST-MODIFIED:20250226T130636Z
UID:10000056-1742061600-1742068800@acfbarcelona.cat
SUMMARY:CICLE DE BALLADES AL PLA DE LA CATEDRAL
DESCRIPTION:BALLADA DE SARDANES AL PLA DE LA CATEDRAL \nCobla: La Principal del Llobregat \nLloc: Pla de la Seu\, s/n \nHorari: 18:00 a 20:00 \nPodeu veure i descarregar el programa aquí
URL:https://acfbarcelona.cat/esdeveniment/cicle-de-ballades-al-pla-de-la-catedral/
CATEGORIES:BALLADES DE SARDANES
END:VEVENT
BEGIN:VEVENT
DTSTART;TZID=Europe/Madrid:20250316T111500
DTEND;TZID=Europe/Madrid:20250316T111500
DTSTAMP:20260421T063204
CREATED:20250115T134225Z
LAST-MODIFIED:20250125T091133Z
UID:10000057-1742123700-1742123700@acfbarcelona.cat
SUMMARY:CICLE DE BALLADES AL PLA DE LA CATEDRAL
DESCRIPTION:CICLE DE BALLADES AL PLA DE LA CATEDRAL \nBALLADA DE SARDANES AL PLA DE LA CATEDRAL \nCobla: La Principal del Llobregat \nLloc: Pla de la Seu\, s/n \nHorari: 11:15 a 13:00 \nPodeu veure i descarregar el programa aquí
URL:https://acfbarcelona.cat/esdeveniment/cicle-de-ballades-al-pla-de-la-catedral-2/
CATEGORIES:BALLADES DE SARDANES
END:VEVENT
BEGIN:VEVENT
DTSTART;TZID=Europe/Madrid:20250322T080000
DTEND;TZID=Europe/Madrid:20250322T170000
DTSTAMP:20260421T063204
CREATED:20250114T172727Z
LAST-MODIFIED:20250303T091107Z
UID:10000033-1742630400-1742662800@acfbarcelona.cat
SUMMARY:Museu del Rellotge de Sant Feliu de Guíxols
DESCRIPTION:SECCIÓ TURISME CULTURAL VOLTANT PER CATALUNYA \nAmb l’arribada de la primavera visitarem el Museu del Rellotge de Sant Feliu de Guíxols. \nPer a més informació i inscripcions truqueu a la M. Rosa (629 217 408). \n*Ens reservem el dret de modificar dates i visites si les circumstàncies ho requereixen. Donat el cas serieu avisats amb antelació
URL:https://acfbarcelona.cat/esdeveniment/dabrilcastell-de-la-bisbal-i-monestir-de-sant-miquel-de-cruilles/
CATEGORIES:Turisme Cultural
END:VEVENT
BEGIN:VEVENT
DTSTART;TZID=Europe/Madrid:20250322T180000
DTEND;TZID=Europe/Madrid:20250322T200000
DTSTAMP:20260421T063204
CREATED:20250115T134507Z
LAST-MODIFIED:20250125T091414Z
UID:10000058-1742666400-1742673600@acfbarcelona.cat
SUMMARY:CICLE DE BALLADES AL PLA DE LA CATEDRAL
DESCRIPTION:BALLADA DE SARDANES AL PLA DE LA CATEDRAL \nCobla: La Principal del Llobregat \nLloc: Pla de la Seu\, s/n \nHorari: 18:00 a 20:00 \nPodeu veure i descarregar el programa aquí
URL:https://acfbarcelona.cat/esdeveniment/cicle-de-ballades-al-pla-de-la-catedral-3/
CATEGORIES:BALLADES DE SARDANES
END:VEVENT
BEGIN:VEVENT
DTSTART;TZID=Europe/Madrid:20250323T111500
DTEND;TZID=Europe/Madrid:20250323T130000
DTSTAMP:20260421T063204
CREATED:20250115T134635Z
LAST-MODIFIED:20250125T091547Z
UID:10000059-1742728500-1742734800@acfbarcelona.cat
SUMMARY:CICLE DE BALLADES AL PLA DE LA CATEDRAL
DESCRIPTION:BALLADA DE SARDANES AL PLA DE LA CATEDRAL \nCobla: Vila d’Olesa \nLloc: Pla de la Seu\, s/n \nHorari: 11:15 a 13:00 \nPodeu veure i descarregar el programa aquí
URL:https://acfbarcelona.cat/esdeveniment/ballada-de-sardanes-al-pla-de-la-catedral/
CATEGORIES:BALLADES DE SARDANES
END:VEVENT
BEGIN:VEVENT
DTSTART;TZID=Europe/Madrid:20250324T190000
DTEND;TZID=Europe/Madrid:20250324T210000
DTSTAMP:20260421T063204
CREATED:20250114T200005Z
LAST-MODIFIED:20250326T175633Z
UID:10000046-1742842800-1742850000@acfbarcelona.cat
SUMMARY:TIMÓN\, GERSHWIN\, GUINOVART
DESCRIPTION:CICLE DE COBLA A BARCELONA TEATRE CASINO L’ALIANÇA DE POBLE NOU \n24 de març de 2025 – 19h\nTIMÓN\, GERSHWIN\, GUINOVART\nPiano\, cobla i ballet\nCobla Marinada\, Guinovart i Dansa Inst. Teatre \nENTRADA TAQUILLA INVERSA  A TRAVÉS D’ENTRAPOLIS \nPodeu consultar el cartell aquí 
URL:https://acfbarcelona.cat/esdeveniment/timon-gershwin-guinovart/
END:VEVENT
BEGIN:VEVENT
DTSTART;TZID=Europe/Madrid:20250329T180000
DTEND;TZID=Europe/Madrid:20250329T200000
DTSTAMP:20260421T063204
CREATED:20250115T134939Z
LAST-MODIFIED:20250125T091940Z
UID:10000060-1743271200-1743278400@acfbarcelona.cat
SUMMARY:CICLE DE BALLADES AL PLA DE LA CATEDRAL
DESCRIPTION:BALLADA DE SARDANES AL PLA DE LA CATEDRAL \nCobla: La Principal del Llobregat \nLloc: Pla de la Seu\, s/n \nHorari: 18:00 a 20:00 \nPodeu veure i descarregar el programa aquí
URL:https://acfbarcelona.cat/esdeveniment/cicle-de-ballades-al-pla-de-la-catedral-4/
CATEGORIES:BALLADES DE SARDANES
END:VEVENT
BEGIN:VEVENT
DTSTART;TZID=Europe/Madrid:20250330T111500
DTEND;TZID=Europe/Madrid:20250330T130000
DTSTAMP:20260421T063204
CREATED:20250115T135609Z
LAST-MODIFIED:20250125T095105Z
UID:10000061-1743333300-1743339600@acfbarcelona.cat
SUMMARY:CICLE DE BALLADES AL PLA DE LA CATEDRAL
DESCRIPTION:BALLADA DE SARDANES AL PLA DE LA CATEDRAL \nCobla: Jovenívola de Sabadell \nLloc: Pla de la Seu\, s/n \nHorari: 11:15 a 13:00 \nPodeu veure i descarregar el programa aquí
URL:https://acfbarcelona.cat/esdeveniment/cicle-de-ballades-al-pla-de-la-catedral-5/
CATEGORIES:BALLADES DE SARDANES
END:VEVENT
BEGIN:VEVENT
DTSTART;TZID=Europe/Madrid:20250331T190000
DTEND;TZID=Europe/Madrid:20250331T210000
DTSTAMP:20260421T063204
CREATED:20250114T200127Z
LAST-MODIFIED:20250326T175424Z
UID:10000047-1743447600-1743454800@acfbarcelona.cat
SUMMARY:CD LES DUES BARÍTONES
DESCRIPTION:CICLE DE COBLA A BARCELONA TEATRE CASINO L’ALIANÇA DE POBLE NOU \n31 de març de 2025 – 19h\nCD LES DUES BARÍTONES\nCobla La Principal del Llobregat \nENTRADA TAQUILLA INVERSA  A TRAVÉS D’ENTRAPOLIS https://www.entrapolis.com/entradas/les-dues-baritones-cicle-de-cobla-a-barcelona \nPodeu consultar el programa aquí
URL:https://acfbarcelona.cat/esdeveniment/cd-les-dues-baritones/
END:VEVENT
BEGIN:VEVENT
DTSTART;TZID=Europe/Madrid:20250405T090000
DTEND;TZID=Europe/Madrid:20250405T170000
DTSTAMP:20260421T063204
CREATED:20250402T152049Z
LAST-MODIFIED:20250402T153857Z
UID:10000083-1743843600-1743872400@acfbarcelona.cat
SUMMARY:DE MOLINS DE REI A SANT VICENS DELS HORTS. RIU LLOBREGAT
DESCRIPTION:Caminades Xino Xano per a Tothom
URL:https://acfbarcelona.cat/esdeveniment/de-molins-de-rei-a-sant-vicens-dels-horts-riu-llobregat/
END:VEVENT
BEGIN:VEVENT
DTSTART;TZID=Europe/Madrid:20250405T180000
DTEND;TZID=Europe/Madrid:20250405T200000
DTSTAMP:20260421T063204
CREATED:20250115T140713Z
LAST-MODIFIED:20250326T174519Z
UID:10000062-1743876000-1743883200@acfbarcelona.cat
SUMMARY:CICLE DE BALLADES AL PLA DE LA CATEDRAL
DESCRIPTION:BALLADA DE SARDANES AL PLA DE LA CATEDRAL \nCobla: La Principal del Llobregat \nLloc: Pla de la Seu\, s/n \nHorari: 18:00 a 20:00 \nPodeu consultar el programa aquí
URL:https://acfbarcelona.cat/esdeveniment/cicle-de-ballades-al-pla-de-la-catedral-6/
CATEGORIES:BALLADES DE SARDANES
END:VEVENT
BEGIN:VEVENT
DTSTART;TZID=Europe/Madrid:20250406T111500
DTEND;TZID=Europe/Madrid:20250406T130000
DTSTAMP:20260421T063204
CREATED:20250115T140812Z
LAST-MODIFIED:20250326T174433Z
UID:10000063-1743938100-1743944400@acfbarcelona.cat
SUMMARY:CICLE DE BALLADES AL PLA DE LA CATEDRAL
DESCRIPTION:BALLADA DE SARDANES AL PLA DE LA CATEDRAL\nCobla: La Principal del Llobregat\nLloc: Pla de la Seu\, s/n\nHorari: 11:15 a 13:00 \nPodeu consultar el programa aquí
URL:https://acfbarcelona.cat/esdeveniment/cicle-de-ballades-al-pla-de-la-catedral-7/
CATEGORIES:BALLADES DE SARDANES
END:VEVENT
BEGIN:VEVENT
DTSTART;TZID=Europe/Madrid:20250407T190000
DTEND;TZID=Europe/Madrid:20250407T210000
DTSTAMP:20260421T063204
CREATED:20250114T200254Z
LAST-MODIFIED:20250114T200254Z
UID:10000048-1744052400-1744059600@acfbarcelona.cat
SUMMARY:75è ANIVERSARI OBRA DEL BALLET POPULAR I MIL·LENARI DE MONTSERRAT
DESCRIPTION:CICLE DE COBLA A BARCELONA TEATRE CASINO L’ALIANÇA DE POBLE NOU \n7 d’abril de 2025 – 19h\n75è ANIVERSARI OBRA DEL BALLET\nPOPULAR I MIL·LENARI DE MONTSERRAT\nCobla Sant Jordi – Ciutat de Barcelona \nENTRADA TAQUILLA INVERSA  A TRAVÉS D’ENTRAPOLIS
URL:https://acfbarcelona.cat/esdeveniment/75e-aniversari-obra-del-ballet-popular-i-mil%c2%b7lenari-de-montserrat/
END:VEVENT
BEGIN:VEVENT
DTSTART;TZID=Europe/Madrid:20250412T080000
DTEND;TZID=Europe/Madrid:20250412T170000
DTSTAMP:20260421T063204
CREATED:20250114T174320Z
LAST-MODIFIED:20250114T174320Z
UID:10000034-1744444800-1744477200@acfbarcelona.cat
SUMMARY:Castellserà La Casa dels Àngels - Mag Lari
DESCRIPTION:SECCIÓ TURISME CULTURAL VOLTANT PER CATALUNYA \nLa màgia arribarà amb la visita d’abril. Anirem a veure la casa dels Àngels de Mag Lari al poble de Castellserà \nPer a més informació i inscripcions truqueu a la M. Rosa (629 217 408). \n  \n*Ens reservem el dret de modificar dates i visites si les circumstàncies ho requereixen.Donat el cas serieu avisats amb antelació.
URL:https://acfbarcelona.cat/esdeveniment/castellsera-la-casa-dels-angels-mag-lari/
END:VEVENT
BEGIN:VEVENT
DTSTART;TZID=Europe/Madrid:20250412T180000
DTEND;TZID=Europe/Madrid:20250412T200000
DTSTAMP:20260421T063204
CREATED:20250115T141135Z
LAST-MODIFIED:20250326T174048Z
UID:10000064-1744480800-1744488000@acfbarcelona.cat
SUMMARY:CICLE DE BALLADES AL PLA DE LA CATEDRAL
DESCRIPTION:BALLADA DE SARDANES AL PLA DE LA CATEDRAL \nCobla: La Principal del Llobregat \nLloc: Pla de la Seu\, s/n \nHorari: 18:00 a 20:00 \nPodeu consultar el programa aquí
URL:https://acfbarcelona.cat/esdeveniment/cobla-la-principal-del-llobregat-lloc-pla-de-la-seu-s-n-horari-1800-a-2000/
CATEGORIES:BALLADES DE SARDANES
END:VEVENT
BEGIN:VEVENT
DTSTART;TZID=Europe/Madrid:20250419T180000
DTEND;TZID=Europe/Madrid:20250419T200000
DTSTAMP:20260421T063204
CREATED:20250115T141307Z
LAST-MODIFIED:20250326T174351Z
UID:10000065-1745085600-1745092800@acfbarcelona.cat
SUMMARY:CICLE DE BALLADES AL PLA DE LA CATEDRAL
DESCRIPTION:BALLADA DE SARDANES AL PLA DE LA CATEDRAL \nCobla: La Principal del Llobregat \nLloc: Pla de la Seu\, s/n \nHorari: 18:00 a 20:00 \nPodeu consultar el programa aquí
URL:https://acfbarcelona.cat/esdeveniment/cicle-de-ballades-al-pla-de-la-catedral-8/
CATEGORIES:BALLADES DE SARDANES
END:VEVENT
BEGIN:VEVENT
DTSTART;TZID=Europe/Madrid:20250420T111500
DTEND;TZID=Europe/Madrid:20250420T130000
DTSTAMP:20260421T063204
CREATED:20250115T142300Z
LAST-MODIFIED:20250326T174257Z
UID:10000066-1745147700-1745154000@acfbarcelona.cat
SUMMARY:CICLE DE BALLADES AL PLA DE LA CATEDRAL
DESCRIPTION:BALLADA DE SARDANES AL PLA DE LA CATEDRAL \nCobla: Ciutat de Girona \nLloc: Pla de la Seu\, s/n \nHorari: 11:15 a 13:00 \nPodeu consultar el programa aquí
URL:https://acfbarcelona.cat/esdeveniment/cicle-de-ballades-al-pla-de-la-catedral-9/
CATEGORIES:BALLADES DE SARDANES
END:VEVENT
END:VCALENDAR