BEGIN:VCALENDAR
VERSION:2.0
PRODID:-//AGRUPACIÓ CULTURAL FOLKLÒRICA BARCELONA - ECPv6.11.2.1//NONSGML v1.0//EN
CALSCALE:GREGORIAN
METHOD:PUBLISH
X-WR-CALNAME:AGRUPACIÓ CULTURAL FOLKLÒRICA BARCELONA
X-ORIGINAL-URL:https://acfbarcelona.cat
X-WR-CALDESC:Esdeveniments per AGRUPACIÓ CULTURAL FOLKLÒRICA BARCELONA
REFRESH-INTERVAL;VALUE=DURATION:PT1H
X-Robots-Tag:noindex
X-PUBLISHED-TTL:PT1H
BEGIN:VTIMEZONE
TZID:Europe/Madrid
BEGIN:DAYLIGHT
TZOFFSETFROM:+0100
TZOFFSETTO:+0200
TZNAME:CEST
DTSTART:20250330T010000
END:DAYLIGHT
BEGIN:STANDARD
TZOFFSETFROM:+0200
TZOFFSETTO:+0100
TZNAME:CET
DTSTART:20251026T010000
END:STANDARD
END:VTIMEZONE
BEGIN:VEVENT
DTSTART;TZID=Europe/Madrid:20250419T180000
DTEND;TZID=Europe/Madrid:20250419T200000
DTSTAMP:20260420T173728
CREATED:20250115T141307Z
LAST-MODIFIED:20250326T174351Z
UID:10000065-1745085600-1745092800@acfbarcelona.cat
SUMMARY:CICLE DE BALLADES AL PLA DE LA CATEDRAL
DESCRIPTION:BALLADA DE SARDANES AL PLA DE LA CATEDRAL \nCobla: La Principal del Llobregat \nLloc: Pla de la Seu\, s/n \nHorari: 18:00 a 20:00 \nPodeu consultar el programa aquí
URL:https://acfbarcelona.cat/esdeveniment/cicle-de-ballades-al-pla-de-la-catedral-8/
CATEGORIES:BALLADES DE SARDANES
END:VEVENT
BEGIN:VEVENT
DTSTART;TZID=Europe/Madrid:20250420T111500
DTEND;TZID=Europe/Madrid:20250420T130000
DTSTAMP:20260420T173728
CREATED:20250115T142300Z
LAST-MODIFIED:20250326T174257Z
UID:10000066-1745147700-1745154000@acfbarcelona.cat
SUMMARY:CICLE DE BALLADES AL PLA DE LA CATEDRAL
DESCRIPTION:BALLADA DE SARDANES AL PLA DE LA CATEDRAL \nCobla: Ciutat de Girona \nLloc: Pla de la Seu\, s/n \nHorari: 11:15 a 13:00 \nPodeu consultar el programa aquí
URL:https://acfbarcelona.cat/esdeveniment/cicle-de-ballades-al-pla-de-la-catedral-9/
CATEGORIES:BALLADES DE SARDANES
END:VEVENT
BEGIN:VEVENT
DTSTART;TZID=Europe/Madrid:20250426T180000
DTEND;TZID=Europe/Madrid:20250426T200000
DTSTAMP:20260420T173728
CREATED:20250115T142444Z
LAST-MODIFIED:20250326T174202Z
UID:10000067-1745690400-1745697600@acfbarcelona.cat
SUMMARY:CICLE DE BALLADES AL PLA DE LA CATEDRAL
DESCRIPTION:BALLADA DE SARDANES AL PLA DE LA CATEDRAL \nCobla: Lluïsos de Taradell \nLloc: Pla de la Seu\, s/n \nHorari: 18:00 a 20:00 \nPodeu consultar el programa aquí
URL:https://acfbarcelona.cat/esdeveniment/cicle-de-ballades-al-pla-de-la-catedral-10/
CATEGORIES:BALLADES DE SARDANES
END:VEVENT
BEGIN:VEVENT
DTSTART;TZID=Europe/Madrid:20250427T111500
DTEND;TZID=Europe/Madrid:20250427T130000
DTSTAMP:20260420T173728
CREATED:20250115T142601Z
LAST-MODIFIED:20250115T142601Z
UID:10000068-1745752500-1745758800@acfbarcelona.cat
SUMMARY:CICLE DE BALLADES AL PLA DE LA CATEDRAL
DESCRIPTION:BALLADA DE SARDANES AL PLA DE LA CATEDRAL \nCobla: Ciutat de Granollers \nLloc: Pla de la Seu\, s/n \nHorari: 11:15 a 13:00
URL:https://acfbarcelona.cat/esdeveniment/cicle-de-ballades-al-pla-de-la-catedral-11/
CATEGORIES:BALLADES DE SARDANES
END:VEVENT
BEGIN:VEVENT
DTSTART;TZID=Europe/Madrid:20250428T190000
DTEND;TZID=Europe/Madrid:20250428T210000
DTSTAMP:20260420T173728
CREATED:20250114T200406Z
LAST-MODIFIED:20250114T200406Z
UID:10000049-1745866800-1745874000@acfbarcelona.cat
SUMMARY:BIENNAL JESÚS VENTURA
DESCRIPTION:CICLE DE COBLA A BARCELONA TEATRE CASINO L’ALIANÇA DE POBLE NOU \n28 d’abril de 2025 – 19h\nBIENNAL JESÚS VENTURA\nObres del curs d’instrumentació\nCobla Sant Jordi – Ciutat de Barcelona \nENTRADA TAQUILLA INVERSA  A TRAVÉS D’ENTRAPOLIS
URL:https://acfbarcelona.cat/esdeveniment/biennal-jesus-ventura/
END:VEVENT
BEGIN:VEVENT
DTSTART;TZID=Europe/Madrid:20250503T180000
DTEND;TZID=Europe/Madrid:20250503T200000
DTSTAMP:20260420T173728
CREATED:20250115T142936Z
LAST-MODIFIED:20250501T125249Z
UID:10000069-1746295200-1746302400@acfbarcelona.cat
SUMMARY:CICLE DE BALLADES AL PLA DE LA CATEDRAL
DESCRIPTION:BALLADA DE SARDANES AL PLA DE LA CATEDRAL \nCobla: La Principal del Llobregat \nLloc: Pla de la Seu\, s/n \nHorari: 18:00 a 20:00 \nPodeu descarregar el programa aquí
URL:https://acfbarcelona.cat/esdeveniment/cicle-de-ballades-al-pla-de-la-catedral-12/
CATEGORIES:BALLADES DE SARDANES
END:VEVENT
BEGIN:VEVENT
DTSTART;TZID=Europe/Madrid:20250504T111500
DTEND;TZID=Europe/Madrid:20250504T130000
DTSTAMP:20260420T173728
CREATED:20250115T143119Z
LAST-MODIFIED:20250501T125428Z
UID:10000070-1746357300-1746363600@acfbarcelona.cat
SUMMARY:CICLE DE BALLADES AL PLA DE LA CATEDRAL
DESCRIPTION:BALLADA DE SARDANES AL PLA DE LA CATEDRAL \nCobla: Vila d’Olesa \nLloc: Pla de la Seu\, s/n \nHorari: 11:15 a 13:00 \nPodeu descarregar el programa aquí
URL:https://acfbarcelona.cat/esdeveniment/cicle-de-ballades-al-pla-de-la-catedral-13/
CATEGORIES:BALLADES DE SARDANES
END:VEVENT
BEGIN:VEVENT
DTSTART;VALUE=DATE:20250506
DTEND;VALUE=DATE:20250511
DTSTAMP:20260420T173728
CREATED:20250114T180047Z
LAST-MODIFIED:20250424T135705Z
UID:10000035-1746518400-1746896400@acfbarcelona.cat
SUMMARY:Museu del Pastor de Castellar de n'Hug
DESCRIPTION:SECCIÓ TURISME CULTURAL VOLTANT PER CATALUNYA \nEl maig visitem el preciós poble de Castellar de n’Hug i el seu Museu del Pastor. \nPer a més informació i inscripcions truqueu a la M. Rosa (629 217 408). \nEns reservem el dret de modificar dates i visites si les circumstàncies ho requereixen. Donat el cas serieu avisats amb antelació
URL:https://acfbarcelona.cat/esdeveniment/campdevanol-un-tomb-per-la-vall-de-ribes/
CATEGORIES:Turisme Cultural
END:VEVENT
BEGIN:VEVENT
DTSTART;TZID=Europe/Madrid:20250510T180000
DTEND;TZID=Europe/Madrid:20250510T200000
DTSTAMP:20260420T173728
CREATED:20250115T143255Z
LAST-MODIFIED:20250501T125631Z
UID:10000071-1746900000-1746907200@acfbarcelona.cat
SUMMARY:CICLE DE BALLADES AL PLA DE LA CATEDRAL
DESCRIPTION:BALLADA DE SARDANES AL (Pendent)\nCobla: La Principal del Llobregat\nLloc: Plaça Comercial el Born\nHorari: 18:00 a 20:00 \nPodeu consultar el programa aquí
URL:https://acfbarcelona.cat/esdeveniment/cicle-de-ballades-al-pla-de-la-catedral-14/
CATEGORIES:BALLADES DE SARDANES
END:VEVENT
BEGIN:VEVENT
DTSTART;TZID=Europe/Madrid:20250511T111500
DTEND;TZID=Europe/Madrid:20250511T130000
DTSTAMP:20260420T173728
CREATED:20250115T143441Z
LAST-MODIFIED:20250501T125755Z
UID:10000072-1746962100-1746968400@acfbarcelona.cat
SUMMARY:CICLE DE BALLADES AL PLA DE LA CATEDRAL
DESCRIPTION:BALLADA DE SARDANES AL (Pendent a confirmar) \nCobla: La Principal del Llobregat \nLloc: Plaça Comercial el Born \nHorari: 11:15 a 13:00 \nPodeu consultar el programa aquí
URL:https://acfbarcelona.cat/esdeveniment/cicle-de-ballades-al-pla-de-la-catedral-15/
CATEGORIES:BALLADES DE SARDANES
END:VEVENT
BEGIN:VEVENT
DTSTART;TZID=Europe/Madrid:20250517T090000
DTEND;TZID=Europe/Madrid:20250517T170000
DTSTAMP:20260420T173728
CREATED:20250402T152216Z
LAST-MODIFIED:20250507T130608Z
UID:10000084-1747472400-1747501200@acfbarcelona.cat
SUMMARY:MANLLEU - MUSEU DEL TER
DESCRIPTION:Caminades Xino-Xano per a tothom
URL:https://acfbarcelona.cat/esdeveniment/de-vilanova-i-la-geltru-a-cubelles/
END:VEVENT
BEGIN:VEVENT
DTSTART;TZID=Europe/Madrid:20250517T180000
DTEND;TZID=Europe/Madrid:20250517T200000
DTSTAMP:20260420T173728
CREATED:20250116T140804Z
LAST-MODIFIED:20250513T054820Z
UID:10000073-1747504800-1747512000@acfbarcelona.cat
SUMMARY:CICLE DE BALLADES AL PLA DE LA CATEDRAL
DESCRIPTION:BALLADA DE SARDANES AL PLA DE LA CATEDRAL \nCobla: La Principal del Llobregat \nLloc: Pla de la Seu\, s/n \nHorari: 18:00 a 20:00 \nPodeu consultar el programa aquí
URL:https://acfbarcelona.cat/esdeveniment/cicle-de-ballades-al-pla-de-la-catedral-16/
CATEGORIES:BALLADES DE SARDANES
END:VEVENT
BEGIN:VEVENT
DTSTART;TZID=Europe/Madrid:20250518T111500
DTEND;TZID=Europe/Madrid:20250518T130000
DTSTAMP:20260420T173728
CREATED:20250116T141343Z
LAST-MODIFIED:20250501T130104Z
UID:10000074-1747566900-1747573200@acfbarcelona.cat
SUMMARY:CICLE DE BALLADES AL PLA DE LA CATEDRAL
DESCRIPTION:BALLADA DE SARDANES AL PLA DE LA CATEDRAL \nCobla: La Principal del Llobregat \nLloc: Pla de la Seu\, s/n \nHorari: 11:15 a 13:00 \nPodeu consultar el programa aquí
URL:https://acfbarcelona.cat/esdeveniment/cicle-de-ballades-al-pla-de-la-catedral-17/
CATEGORIES:BALLADES DE SARDANES
END:VEVENT
BEGIN:VEVENT
DTSTART;TZID=Europe/Madrid:20250525T090000
DTEND;TZID=Europe/Madrid:20250525T170000
DTSTAMP:20260420T173728
CREATED:20250402T153737Z
LAST-MODIFIED:20250402T153737Z
UID:10000086-1748163600-1748192400@acfbarcelona.cat
SUMMARY:FESTA ENDAVANT
DESCRIPTION:
URL:https://acfbarcelona.cat/esdeveniment/festa-endavant/
END:VEVENT
BEGIN:VEVENT
DTSTART;TZID=Europe/Madrid:20250525T111500
DTEND;TZID=Europe/Madrid:20250525T130000
DTSTAMP:20260420T173728
CREATED:20250116T141556Z
LAST-MODIFIED:20250116T141556Z
UID:10000075-1748171700-1748178000@acfbarcelona.cat
SUMMARY:CICLE DE BALLADES AL PLA DE LA CATEDRAL
DESCRIPTION:BALLADA DE SARDANES AL PLA DE LA CATEDRAL\nCobla: Marinada\nLloc: Pla de la Seu\, s/n\nHorari: 11:15 a 13:00
URL:https://acfbarcelona.cat/esdeveniment/cicle-de-ballades-al-pla-de-la-catedral-18/
CATEGORIES:BALLADES DE SARDANES
END:VEVENT
BEGIN:VEVENT
DTSTART;TZID=Europe/Madrid:20250531T170000
DTEND;TZID=Europe/Madrid:20250531T190000
DTSTAMP:20260420T173728
CREATED:20250116T141820Z
LAST-MODIFIED:20250516T083139Z
UID:10000076-1748710800-1748718000@acfbarcelona.cat
SUMMARY:CICLE DE BALLADES AL PLA DE LA CATEDRAL
DESCRIPTION:BALLADA DE SARDANES AL PLA DE LA CATEDRAL \nCobla: La Principal del Llobregat \nLloc: Pla de la Seu\, s/n \nHorari: 17:00 a 19:00 \nPodeu consultar el programa aquí
URL:https://acfbarcelona.cat/esdeveniment/cicle-de-ballades-al-pla-de-la-catedral-19/
CATEGORIES:BALLADES DE SARDANES
END:VEVENT
BEGIN:VEVENT
DTSTART;TZID=Europe/Madrid:20250607T170000
DTEND;TZID=Europe/Madrid:20250607T190000
DTSTAMP:20260420T173728
CREATED:20250126T095640Z
LAST-MODIFIED:20250601T180844Z
UID:10000077-1749315600-1749322800@acfbarcelona.cat
SUMMARY:CICLE DE BALLADES AL PLA DE LA CATEDRAL
DESCRIPTION:BALLADA DE SARDANES AL PLA DE LA CATEDRAL\nCobla: La Principal del Llobregat\nLloc: Pla de la Seu\, s/n\nHorari: 17:00 a 19:00 \nAtenció! L’hora de començar és a les 17:00 \nPodeu consultar el programa aquí
URL:https://acfbarcelona.cat/esdeveniment/cicle-de-ballades-al-pla-de-la-catedral-20/
CATEGORIES:BALLADES DE SARDANES
END:VEVENT
BEGIN:VEVENT
DTSTART;TZID=Europe/Madrid:20250608T111500
DTEND;TZID=Europe/Madrid:20250608T130000
DTSTAMP:20260420T173728
CREATED:20250126T095846Z
LAST-MODIFIED:20250602T044916Z
UID:10000078-1749381300-1749387600@acfbarcelona.cat
SUMMARY:CICLE DE BALLADES AL PLA DE LA CATEDRAL
DESCRIPTION:BALLADA DE SARDANES AL PLA DE LA CATEDRAL\nCobla: Lluïsos de Taradell\nLloc: Pla de la Seu\, s/n\nHorari: 11:15 a 13:00 \nPodeu consultar el programa aqui
URL:https://acfbarcelona.cat/esdeveniment/cicle-de-ballades-al-pla-de-la-catedral-21/
CATEGORIES:BALLADES DE SARDANES
END:VEVENT
BEGIN:VEVENT
DTSTART;TZID=Europe/Madrid:20250613T080000
DTEND;TZID=Europe/Madrid:20250613T170000
DTSTAMP:20260420T173728
CREATED:20250114T181337Z
LAST-MODIFIED:20250610T163215Z
UID:10000036-1749801600-1749834000@acfbarcelona.cat
SUMMARY:Vilanova i la Geltrú Far de Sant Cristòfol
DESCRIPTION:SECCIÓ TURISME CULTURAL VOLTANT PER CATALUNYA \nEl 13 de juny la sortida la farem a Vilanova i la Geltrú \n  \nPer a més informació i inscripcions truqueu a la M. Rosa (629 217 408). \nEns reservem el dret de modificar dates i visites si les circumstàncies ho requereixen.Donat el cas serieu avisats amb antelació.
URL:https://acfbarcelona.cat/esdeveniment/vilanova-i-la-geltru-far-de-sant-cristofol/
CATEGORIES:Turisme Cultural
END:VEVENT
BEGIN:VEVENT
DTSTART;TZID=Europe/Madrid:20250614T170000
DTEND;TZID=Europe/Madrid:20250614T210000
DTSTAMP:20260420T173728
CREATED:20250126T100035Z
LAST-MODIFIED:20250601T182323Z
UID:10000079-1749920400-1749934800@acfbarcelona.cat
SUMMARY:XXVII APLEC AL PLA DE LA CATEDRAL
DESCRIPTION:XXVII APLEC AL PLA DE LA CATEDRAL\nCobla: La Principal del Llobregat i Mediterrània\nLloc: Pla de la Seu\, s/n\nHorari: 17:00 a 21:00 \nPodeu veure i descarregar el cartell i el programa 
URL:https://acfbarcelona.cat/esdeveniment/aplec-al-pla-de-la-catedral/
CATEGORIES:BALLADES DE SARDANES
END:VEVENT
BEGIN:VEVENT
DTSTART;TZID=Europe/Madrid:20250615T111500
DTEND;TZID=Europe/Madrid:20250615T130000
DTSTAMP:20260420T173728
CREATED:20250126T100139Z
LAST-MODIFIED:20250601T181542Z
UID:10000080-1749986100-1749992400@acfbarcelona.cat
SUMMARY:CICLE DE BALLADES AL PLA DE LA CATEDRAL
DESCRIPTION:BALLADA DE SARDANES AL PLA DE LA CATEDRAL\nCobla: Flama de Farners\nLloc: Pla de la Seu\, s/n\nHorari: 11:15 a 13:00 \nPodeu consultar el programa aquí
URL:https://acfbarcelona.cat/esdeveniment/cicle-de-ballades-al-pla-de-la-catedral-22/
CATEGORIES:BALLADES DE SARDANES
END:VEVENT
BEGIN:VEVENT
DTSTART;TZID=Europe/Madrid:20250621T090000
DTEND;TZID=Europe/Madrid:20250621T170000
DTSTAMP:20260420T173728
CREATED:20250402T153744Z
LAST-MODIFIED:20250509T142516Z
UID:10000085-1750496400-1750525200@acfbarcelona.cat
SUMMARY:De Vilanova i la Geltrú a Cubelles
DESCRIPTION:Caminades Xino-Xano per a tothom. \nDistància de 5\,4 km\, temps d’1 hora i 15 minuts.
URL:https://acfbarcelona.cat/esdeveniment/torello-una-variant/
END:VEVENT
BEGIN:VEVENT
DTSTART;TZID=Europe/Madrid:20250628T170000
DTEND;TZID=Europe/Madrid:20250628T190000
DTSTAMP:20260420T173728
CREATED:20250126T100319Z
LAST-MODIFIED:20250526T130038Z
UID:10000081-1751130000-1751137200@acfbarcelona.cat
SUMMARY:BALLADA FESTA MAJOR CIUTAT VELLA
DESCRIPTION:BALLADA DE SARDANES A SANT AGUSTÍ VELL\nCobla: Marinada\nLloc: Plaça de Sant Agustí Vell\nHorari: 17:00 a 19:00
URL:https://acfbarcelona.cat/esdeveniment/ballada-festa-major-ciutat-vella/
CATEGORIES:BALLADES DE SARDANES
END:VEVENT
BEGIN:VEVENT
DTSTART;TZID=Europe/Madrid:20250708T080000
DTEND;TZID=Europe/Madrid:20250708T170000
DTSTAMP:20260420T173728
CREATED:20250708T075821Z
LAST-MODIFIED:20250708T075821Z
UID:10000100-1751961600-1751994000@acfbarcelona.cat
SUMMARY:CICLE DE BALLADES AL PLA DE LA CATEDRAL
DESCRIPTION:BALLADA DE SARDANES AL PLA DE LA CATEDRAL\nCobla: Lluïsos de Taradell\nLloc: Pla de la Seu\, s/n\nHorari: 11:15 a 13:00
URL:https://acfbarcelona.cat/esdeveniment/cicle-de-ballades-al-pla-de-la-catedral-34/
END:VEVENT
BEGIN:VEVENT
DTSTART;TZID=Europe/Madrid:20250708T104500
DTEND;TZID=Europe/Madrid:20250708T134500
DTSTAMP:20260420T173728
CREATED:20250708T080734Z
LAST-MODIFIED:20250708T080734Z
UID:10000102-1751971500-1751982300@acfbarcelona.cat
SUMMARY:CICLE DE BALLADES AL PLA DE LA CATEDRAL
DESCRIPTION:BALLADA DOBLE DE SARDANES AL PLA DE LA CATEDRAL \nHOMENTATGE A SR. ANTONI ANGUELA\nCobles: Mediterrània i Marinada\nLloc: Pla de la Seu\, s/n\nHorari: 10:45 a 13:45
URL:https://acfbarcelona.cat/esdeveniment/cicle-de-ballades-al-pla-de-la-catedral-36/
END:VEVENT
BEGIN:VEVENT
DTSTART;TZID=Europe/Madrid:20250709T080000
DTEND;TZID=Europe/Madrid:20250714T170000
DTSTAMP:20260420T173728
CREATED:20250114T191655Z
LAST-MODIFIED:20250114T191655Z
UID:10000037-1752048000-1752512400@acfbarcelona.cat
SUMMARY:Pirineu Català Aragonés
DESCRIPTION:SECCIÓ TURISME CULTURAL VOLTANT PER CATALUNYA \nAmb la calor de l’estiu pugem al Pirineu Català Aragonès a buscar la fresca. Anirem del 9 al 14 juliol a refrescar-nos. \nPer a més informació i inscripcions truqueu a la M. Rosa (629 217 408). \nEns reservem el dret de modificar dates i visites si les circumstàncies ho requereixen.Donat el cas serieu avisats amb antelació.
URL:https://acfbarcelona.cat/esdeveniment/pirineu-catala-aragones/
END:VEVENT
BEGIN:VEVENT
DTSTART;TZID=Europe/Madrid:20250717T190000
DTEND;TZID=Europe/Madrid:20250717T210000
DTSTAMP:20260420T173728
CREATED:20250707T070358Z
LAST-MODIFIED:20250710T092138Z
UID:10000087-1752778800-1752786000@acfbarcelona.cat
SUMMARY:BALLADA DE SARDANES AL PLA DE LA CATEDRAL - 17 de juliol de 2025
DESCRIPTION:CICLE DE BALLADES AL PLA DE LA CATEDRAL\n\nBALLADA DE SARDANES AL PLA DE LA CATEDRAL – 17 de juliol de 2025 \nCobla: La Principal del Llobregat\nLloc: Pla de la Seu\, s/n\nHorari: 19:00 a 21:00 \nAquí podràs trobar tot el calendari del Cicle de Ballades al Pla de la Catedral. Consulta també la nostra agenda per estar al dia de totes les activitats de l’Agrupació i l’agenda de SomSardana per conèixer tots els actes sardanistes de Catalunya. \nConsulta la nostra pàgina d’Instagram per estar al dia del Cicle de Ballades al Pla de la Catedral i de totes les activitats. \n \nEl cicle SARDANES A LA CATEDRAL consisteix en audicions de sardanes organitzades per l’Agrupació Cultural Folklòrica Barcelona durant el període de primavera-tardor. Normalment\, cada ballada de sardanes comença a les 18h els dissabtes i 11.15 h els diumenges\, tret de casos concrets. A més a més\, comencem amb una audició doble especial per Santa Eulàlia i donem el tret de sortida oficial del cicle a mitjans de març. \nD’altra banda\, cada any\, durant la segona setmana de juny\, duem a terme l’Aplec al Pla de la Catedral. Sempre oferim un repertori amè i variat per a tot el públic. Així mateix\, donem visibilitat a una gran varietat de compositors i compositores a través dels nostres repertoris\, interpretant des de compositors clàssics fins als més contemporanis. \nA més\, posem a la disposició de tothom l’accés a les ballades per fer celebracions\, homenatges i estrenes. Si t’interessa\, contacta amb nosaltres a través de ballades@acfbarcelona.cat. \nNo ho dubtis més! Vine a ballar sardanes amb l’Agrupació Cultural Folklòrica Barcelona. Trobareu totes les dates a la nostra agenda clicant aquí.
URL:https://acfbarcelona.cat/esdeveniment/ballada-de-sardanes-17-juliol-2025/
CATEGORIES:BALLADES DE SARDANES
ATTACH;FMTTYPE=image/jpeg:https://acfbarcelona.cat/wp-content/uploads/2025/07/DSC_7631_-scaled.jpg
END:VEVENT
BEGIN:VEVENT
DTSTART;TZID=Europe/Madrid:20250907T111500
DTEND;TZID=Europe/Madrid:20250907T130000
DTSTAMP:20260420T173728
CREATED:20250707T070903Z
LAST-MODIFIED:20250827T113640Z
UID:10000088-1757243700-1757250000@acfbarcelona.cat
SUMMARY:BALLADA DE SARDANES AL PLA DE LA CATEDRAL - 7 de setembre de 2025
DESCRIPTION:CICLE DE BALLADES AL PLA DE LA CATEDRAL\nBALLADA DE SARDANES AL PLA DE LA CATEDRAL – 7 de setembre de 2025\n\nCobla: La Principal del Llobregat\nLloc: Pla de la Seu\, s/n\nHorari: 11:15 a 13:00 \nAquí podràs trobar tot el calendari del Cicle de Ballades al Pla de la Catedral. Consulta també la nostra agenda per estar al dia de totes les activitats de l’Agrupació i l’agenda de SomSardana per conèixer tots els actes sardanistes de Catalunya. \nConsulta la nostra pàgina d’Instagram per estar al dia del Cicle de Ballades al Pla de la Catedral i de totes les activitats. \n \nEl cicle SARDANES A LA CATEDRAL consisteix en audicions de sardanes organitzades per l’Agrupació Cultural Folklòrica Barcelona durant el període de primavera-tardor. Normalment\, cada ballada de sardanes comença a les 18h els dissabtes i 11.15 h els diumenges\, tret de casos concrets. A més a més\, comencem amb una audició doble especial per Santa Eulàlia i donem el tret de sortida oficial del cicle a mitjans de març. \nD’altra banda\, cada any\, durant la segona setmana de juny\, duem a terme l’Aplec al Pla de la Catedral. Sempre oferim un repertori amè i variat per a tot el públic. Així mateix\, donem visibilitat a una gran varietat de compositors i compositores a través dels nostres repertoris\, interpretant des de compositors clàssics fins als més contemporanis. \nA més\, posem a la disposició de tothom l’accés a les ballades per fer celebracions\, homenatges i estrenes. Si t’interessa\, contacta amb nosaltres a través de ballades@acfbarcelona.cat. \nNo ho dubtis més! Vine a ballar sardanes amb l’Agrupació Cultural Folklòrica Barcelona. Trobareu totes les dates a la nostra agenda clicant aquí.
URL:https://acfbarcelona.cat/esdeveniment/ballada-de-sardanes-7-de-setembre-2025/
CATEGORIES:BALLADES DE SARDANES
ATTACH;FMTTYPE=image/jpeg:https://acfbarcelona.cat/wp-content/uploads/2025/07/DSC_7631_-scaled.jpg
END:VEVENT
BEGIN:VEVENT
DTSTART;TZID=Europe/Madrid:20250914T111500
DTEND;TZID=Europe/Madrid:20250914T130000
DTSTAMP:20260420T173728
CREATED:20250707T071000Z
LAST-MODIFIED:20250911T061415Z
UID:10000089-1757848500-1757854800@acfbarcelona.cat
SUMMARY:BALLADA DE SARDANES AL PLA DE LA CATEDRAL - 14 de setembre de 2025
DESCRIPTION:CICLE DE BALLADES AL PLA DE LA CATEDRAL\n\nBALLADA DE SARDANES AL PLA DE LA CATEDRAL – 14 de setembre de 2025 \nCobla: Sol de Banyuls\nLloc: Pla de la Seu\, s/n\nHorari: 11:15 a 13:00 \nAquí podràs trobar tot el calendari del Cicle de Ballades al Pla de la Catedral. Consulta també la nostra agenda per estar al dia de totes les activitats de l’Agrupació i l’agenda de SomSardana per conèixer tots els actes sardanistes de Catalunya. \nConsulta la nostra pàgina d’Instagram per estar al dia del Cicle de Ballades al Pla de la Catedral i de totes les activitats. \n \nEl cicle SARDANES A LA CATEDRAL consisteix en audicions de sardanes organitzades per l’Agrupació Cultural Folklòrica Barcelona durant el període de primavera-tardor. Normalment\, cada ballada de sardanes comença a les 18h els dissabtes i 11.15 h els diumenges\, tret de casos concrets. A més a més\, comencem amb una audició doble especial per Santa Eulàlia i donem el tret de sortida oficial del cicle a mitjans de març. \nD’altra banda\, cada any\, durant la segona setmana de juny\, duem a terme l’Aplec al Pla de la Catedral. Sempre oferim un repertori amè i variat per a tot el públic. Així mateix\, donem visibilitat a una gran varietat de compositors i compositores a través dels nostres repertoris\, interpretant des de compositors clàssics fins als més contemporanis. \nA més\, posem a la disposició de tothom l’accés a les ballades per fer celebracions\, homenatges i estrenes. Si t’interessa\, contacta amb nosaltres a través de ballades@acfbarcelona.cat. \nNo ho dubtis més! Vine a ballar sardanes amb l’Agrupació Cultural Folklòrica Barcelona. Trobareu totes les dates a la nostra agenda clicant aquí.
URL:https://acfbarcelona.cat/esdeveniment/ballada-de-sardanes-14-setembre-2025/
CATEGORIES:BALLADES DE SARDANES
ATTACH;FMTTYPE=image/jpeg:https://acfbarcelona.cat/wp-content/uploads/2025/07/DSC_7631_-scaled.jpg
END:VEVENT
BEGIN:VEVENT
DTSTART;TZID=Europe/Madrid:20250920T080000
DTEND;TZID=Europe/Madrid:20250920T170000
DTSTAMP:20260420T173728
CREATED:20250114T192207Z
LAST-MODIFIED:20250714T065829Z
UID:10000038-1758355200-1758387600@acfbarcelona.cat
SUMMARY:Castelló d’Empúries Visita a l’ecomuseu farinera
DESCRIPTION:Castelló d’Empúries: Una Visita a l’Ecomuseu Farinera amb Turisme Cultural\nBenvinguts de nou a la secció Turisme Cultural Voltant per Catalunya! Des de l’Agrupació Cultural Folklòrica Barcelona\, estem encantats de presentar-vos una de les nostres pròximes i interessants sortides. Aquesta vegada\, ens enfilarem cap a la comarca de l’Alt Empordà per descobrir la bella localitat de Castelló d’Empúries. \nEl plat fort d’aquesta jornada serà\, sense dubte\, la nostra visita a l’Ecomuseu Farinera de Castelló d’Empúries. Aquest espai singular no és només un museu; és un viatge fascinant al cor de la història industrial i rural de Catalunya. Hi podrem conèixer de primera mà el procés de transformació del blat en farina\, entenent la importància d’aquesta activitat per a la vida quotidiana i l’economia del territori. A més a més\, l’ecomuseu ens permetrà veure la maquinària original i les instal·lacions d’una antiga fàbrica de farina\, oferint una perspectiva única. \n\nDescobrint la Història del Blat i el Pa\nDurant la visita a l’Ecomuseu Farinera de Castelló d’Empúries\, aprendrem sobre les tècniques tradicionals i modernes de molta. Per tant\, serà una experiència didàctica que ens connectarà amb les nostres arrels i amb la cultura del pa. Aquesta excursió\, per consegüent\, és ideal per a tots aquells amants de la història\, la tecnologia i les tradicions locals. Prepararem una jornada completa que\, a banda de la visita principal\, ens permetrà gaudir de l’entorn de Castelló d’Empúries. Segurament inclourà una passejada per la seva impressionant basílica i els seus carrers medievals. \n\nInformació i Inscripcions\nPer a més informació i inscripcions sobre aquesta emocionant sortida cultural\, podeu contactar directament amb la M. Rosa trucant al 629 217 408. Ella us podrà donar tots els detalls necessaris sobre dates\, horaris i preus. Com sempre\, ens reservem el dret de modificar dates i visites si les circumstàncies ho requereixen. En aquest cas\, seríeu avisats amb la màxima antelació possible per garantir la vostra comoditat. \n\nNo et perdis cap activitat de Turisme Cultural!\nPer estar sempre al dia de totes les novetats sobre les nostres properes excursions\, com la visita a l’Ecomuseu Farinera de Castelló d’Empúries\, i totes les propostes de la nostra Agrupació\, et convidem a: \n\nConsultar l’agenda completa: Trobareu totes les nostres sortides programades a la nostra Agenda de Turisme Cultural.\nSeguir-nos a les xarxes socials: Descobreix les nostres fotos i vídeos més recents al nostre Instagram.\nExplorar el nostre blog de Turisme Cultural: Llegeix cròniques d’altres sortides i descobreix els nostres destins al Blog de Turisme Cultural.\nMantenir-te informat amb les circulars: Per a tots els detalls i avisos importants\, consulta les nostres Circulars Informatives.\nVisitar la nostra web principal: Descobreix tot el que la nostra Agrupació t’ofereix a la web principal de l’Agrupació Cultural Folklòrica Barcelona.
URL:https://acfbarcelona.cat/esdeveniment/maigcastello-dempuries-visita-a-lecomuseu-farinera/
CATEGORIES:Turisme Cultural
ATTACH;FMTTYPE=image/png:https://acfbarcelona.cat/wp-content/uploads/2024/12/Copia-de-Cartell-Turisme-Cultural.png
END:VEVENT
END:VCALENDAR