BEGIN:VCALENDAR
VERSION:2.0
PRODID:-//AGRUPACIÓ CULTURAL FOLKLÒRICA BARCELONA - ECPv6.11.2.1//NONSGML v1.0//EN
CALSCALE:GREGORIAN
METHOD:PUBLISH
X-ORIGINAL-URL:https://acfbarcelona.cat
X-WR-CALDESC:Esdeveniments per AGRUPACIÓ CULTURAL FOLKLÒRICA BARCELONA
REFRESH-INTERVAL;VALUE=DURATION:PT1H
X-Robots-Tag:noindex
X-PUBLISHED-TTL:PT1H
BEGIN:VTIMEZONE
TZID:Europe/Madrid
BEGIN:DAYLIGHT
TZOFFSETFROM:+0100
TZOFFSETTO:+0200
TZNAME:CEST
DTSTART:20240331T010000
END:DAYLIGHT
BEGIN:STANDARD
TZOFFSETFROM:+0200
TZOFFSETTO:+0100
TZNAME:CET
DTSTART:20241027T010000
END:STANDARD
END:VTIMEZONE
BEGIN:VEVENT
DTSTART;TZID=Europe/Madrid:20240928T180000
DTEND;TZID=Europe/Madrid:20240928T193000
DTSTAMP:20260421T061453
CREATED:20240926T150047Z
LAST-MODIFIED:20240926T150047Z
UID:10000004-1727546400-1727551800@acfbarcelona.cat
SUMMARY:BALLADA AL PLA DE LA CATEDRAL
DESCRIPTION:  \nBallada organitzada: Agrupació Cultural Folklòrica Barcelona Cobla: Lluïsos de Taradell. El programa el  pots descarregar aquí \n  \n  \n  \n  \n  \n  \n \n 
URL:https://acfbarcelona.cat/esdeveniment/ballada-al-pla-de-la-catedral/
LOCATION:Pla de la Catedral\, Barcelona\, Barcelona
END:VEVENT
BEGIN:VEVENT
DTSTART;TZID=Europe/Madrid:20240930T183000
DTEND;TZID=Europe/Madrid:20240930T190000
DTSTAMP:20260421T061453
CREATED:20240925T154520Z
LAST-MODIFIED:20240925T154520Z
UID:10000003-1727721000-1727722800@acfbarcelona.cat
SUMMARY:Ballada de sardanes
DESCRIPTION:Prova \nCONVOCATÒRIA CONSULTIVA OBERTA
URL:https://acfbarcelona.cat/esdeveniment/ballada-de-sardanes/
LOCATION:Pla de la Catedral\, Barcelona\, Barcelona
END:VEVENT
END:VCALENDAR