BEGIN:VCALENDAR
VERSION:2.0
PRODID:-//AGRUPACIÓ CULTURAL FOLKLÒRICA BARCELONA - ECPv6.11.2.1//NONSGML v1.0//EN
CALSCALE:GREGORIAN
METHOD:PUBLISH
X-ORIGINAL-URL:https://acfbarcelona.cat
X-WR-CALDESC:Esdeveniments per AGRUPACIÓ CULTURAL FOLKLÒRICA BARCELONA
REFRESH-INTERVAL;VALUE=DURATION:PT1H
X-Robots-Tag:noindex
X-PUBLISHED-TTL:PT1H
BEGIN:VTIMEZONE
TZID:Europe/Madrid
BEGIN:DAYLIGHT
TZOFFSETFROM:+0100
TZOFFSETTO:+0200
TZNAME:CEST
DTSTART:20240331T010000
END:DAYLIGHT
BEGIN:STANDARD
TZOFFSETFROM:+0200
TZOFFSETTO:+0100
TZNAME:CET
DTSTART:20241027T010000
END:STANDARD
END:VTIMEZONE
BEGIN:VEVENT
DTSTART;TZID=Europe/Madrid:20241209T190000
DTEND;TZID=Europe/Madrid:20241209T203000
DTSTAMP:20260420T235654
CREATED:20241002T114647Z
LAST-MODIFIED:20241002T114739Z
UID:10000022-1733770800-1733776200@acfbarcelona.cat
SUMMARY:CONCERTS A L'ALIANÇA DEL POBLENOU - COBLA I VEUS
DESCRIPTION:Concert: COBLA I VEUS. Un circ d’emocions \nVeus: Noelia Mora\, Victòria Huguet\, Xavier Dealbert\, Miquel Gili \nCobla: Selvatana \nEntrades a: https://www.entrapolis.com/ \nPresentació: Per descarregar programa clicar aquí \nOpuscle Temporada \n  \n 
URL:https://acfbarcelona.cat/esdeveniment/concerts-a-lalianca-del-poblenou-cobla-i-veus/
LOCATION:Teatre Casino l’Aliança del Poblenou\, Rambla del Poblenou\, 42\, BARCELONA\, BARCELONA\, 08005\, Spain
END:VEVENT
BEGIN:VEVENT
DTSTART;TZID=Europe/Madrid:20241216T190000
DTEND;TZID=Europe/Madrid:20241216T200000
DTSTAMP:20260420T235654
CREATED:20241002T114959Z
LAST-MODIFIED:20241002T114959Z
UID:10000023-1734375600-1734379200@acfbarcelona.cat
SUMMARY:CONCERTS A L'ALIANÇA DEL POBLENOU - CONCERT DE NADAL
DESCRIPTION:Concert: CONCERT DE NADAL \nCobla: Cobla Sant Jordi – Ciutat de Barcelona i Cobla Conservatori MMB \nEntrades a: https://www.entrapolis.com/ \nPrograma: Per descarregar programa clicar aquí \n  \n  \n 
URL:https://acfbarcelona.cat/esdeveniment/concerts-a-lalianca-del-poblenou-concert-de-nadal/
LOCATION:Teatre Casino l’Aliança del Poblenou\, Rambla del Poblenou\, 42\, BARCELONA\, BARCELONA\, 08005\, Spain
END:VEVENT
BEGIN:VEVENT
DTSTART;TZID=Europe/Madrid:20241220T070000
DTEND;TZID=Europe/Madrid:20241222T170000
DTSTAMP:20260420T235654
CREATED:20241002T102251Z
LAST-MODIFIED:20241002T102426Z
UID:10000013-1734678000-1734886800@acfbarcelona.cat
SUMMARY:TURISME CULTURAL - SANTA COLOMA DE FARNERS
DESCRIPTION:Sortida: Santa Coloma de Farners – Visita a l’Espai Ratafia i Galetes Trias \n  \n  \n  \n  \nPer a més informació i inscripcions truqueu a la M. Rosa (629217408). \n*Ens reservem el dret de modificar dates i visites si les circumstàncies ho requereixen. Donat el cas serieu avisats amb antelació.
URL:https://acfbarcelona.cat/esdeveniment/turisme-cultural-santa-coloma-de-farners/
END:VEVENT
END:VCALENDAR