BEGIN:VCALENDAR
VERSION:2.0
PRODID:-//AGRUPACIÓ CULTURAL FOLKLÒRICA BARCELONA - ECPv6.11.2.1//NONSGML v1.0//EN
CALSCALE:GREGORIAN
METHOD:PUBLISH
X-ORIGINAL-URL:https://acfbarcelona.cat
X-WR-CALDESC:Esdeveniments per AGRUPACIÓ CULTURAL FOLKLÒRICA BARCELONA
REFRESH-INTERVAL;VALUE=DURATION:PT1H
X-Robots-Tag:noindex
X-PUBLISHED-TTL:PT1H
BEGIN:VTIMEZONE
TZID:Europe/Madrid
BEGIN:DAYLIGHT
TZOFFSETFROM:+0100
TZOFFSETTO:+0200
TZNAME:CEST
DTSTART:20250330T010000
END:DAYLIGHT
BEGIN:STANDARD
TZOFFSETFROM:+0200
TZOFFSETTO:+0100
TZNAME:CET
DTSTART:20251026T010000
END:STANDARD
END:VTIMEZONE
BEGIN:VEVENT
DTSTART;TZID=Europe/Madrid:20251207T080000
DTEND;TZID=Europe/Madrid:20251207T170000
DTSTAMP:20260421T011423
CREATED:20250909T092950Z
LAST-MODIFIED:20250909T092950Z
UID:10000110-1765094400-1765126800@acfbarcelona.cat
SUMMARY:Xino-Xano: la vil·la romana de Sant Amanç a Rajadell
DESCRIPTION:Xino-Xano del Grup de Muntanya\nEl Grup de Muntanya és una Secció de l’Agrupació Cultural Folklòrica Barcelona dedicada a l’excursionisme. Últimament s’han impulsat les sortides anomenades “Xino-Xano”\, menys exigents i obertes a tots els públics que han tingut molt bona acollida. Els desplaçaments es fan en transport públic\, i les caminades són senzilles i accessibles\, acabant la  caminada amb un dinar tots plegats. \nLa vil·la romana de Sant Amanç a Rajadell\nEl conjunt arqueològic de Sant Amanç de Viladés és integrat per una vil·la d’època romana\, un assentament altmedieval i unes restes d’època dels Íbers. Tot el jaciment és situat al vessant sud d’un serrat\, travessat per la carretera C-25 en el tram que va de Rajadell a Calaf i que divideix el conjunt en dues parts: nord i sud. La importància de la vil·la romana de Rajadell s’entén per la presència d’una via romana que unia les terres del sector de Manresa amb les de Calaf i Prats de Rei (antic municipi romà de Sigarra). \nInformació i Inscripcions\nPer a més informació i inscripcions sobre aquesta emocionant passejada\, podeu contactar amb l’Agrupació a través del correu activitats@acfbarcelona.cat. Com sempre\, ens reservem el dret de modificar dates i visites si les circumstàncies ho requereixen. En aquest cas\, seríeu avisats amb la màxima antelació possible per garantir la vostra comoditat. \nNo et perdis cap activitat del Grup de Muntanya!\nPer estar sempre al dia de totes les novetats sobre les nostres properes excursions\, com la passejada per la vil·la romana de Sant Amanç\, i totes les propostes de la nostra Agrupació\, et convidem a: \n\nConsultar l’agenda completa: Trobareu totes les nostres sortides programades a la nostra Agenda de Muntanya.\nSeguir-nos a les xarxes socials: Descobreix les nostres fotos i vídeos més recents al nostre Instagram.\nExplorar el nostre blog del Grup de Muntanya: Llegeix cròniques d’altres sortides i descobreix els nostres destins al Blog del Grup de Munyanya. \nMantenir-te informat amb les circulars: Per a tots els detalls i avisos importants\, consulta les nostres Circulars Informatives.\nVisitar la nostra web principal: Descobreix tot el que la nostra Agrupació t’ofereix a la web principal de l’Agrupació Cultural Folklòrica Barcelona.
URL:https://acfbarcelona.cat/esdeveniment/xino-xano-la-villa-romana-de-sant-amanc-a-rajadell/
CATEGORIES:Muntanya
ATTACH;FMTTYPE=image/jpeg:https://acfbarcelona.cat/wp-content/uploads/2025/09/xino-xano-la-villa-roamana-de-Sant-Amanc.jpeg
END:VEVENT
BEGIN:VEVENT
DTSTART;TZID=Europe/Madrid:20251215T190000
DTEND;TZID=Europe/Madrid:20251215T210000
DTSTAMP:20260421T011423
CREATED:20250115T075534Z
LAST-MODIFIED:20250917T083405Z
UID:10000054-1765825200-1765832400@acfbarcelona.cat
SUMMARY:CICLE DE COBLA A BARCELONA - Concert de Nadal 2025
DESCRIPTION:CONCERT DE NADAL 2025\n15 de desembre de 2025 – 19h\nCobla Sant Jordi – Ciutat de Barcelona i Cobla del Conservatori MMB \nESPECTACLE GRATUÏT AMB TAQUILLA INVERSA \nCAL RESERVAR ENTRADA A ENTRAPOLIS.COM \n  \nUneix-te a la música de cobla i dona suport als concerts!\nSi t’apassiona la música de cobla\, les sardanes o el ric patrimoni musical català\, et convidem a unir-te a la comunitat dels Amics Concerts Cobla Barcelona. La teva participació és essencial per mantenir viva aquesta tradició. \nPer estar sempre al dia de la programació i les novetats\, et convidem a: \n\nConsultar l’Agenda: Descobreix totes les nostres activitats programades\, inclosos els propers Concerts de Cobla.\nMantenir-te informat amb les nostres circulars: Per a tots els detalls i avisos importants sobre el cicle\, consulta les nostres Circulars Informatives.\nSeguir-nos a Instagram i Youtube: Descobreix les nostres fotos i vídeos més recents al nostre Instagram i Youtube.\nVisitar la nostra web : Explora tota la informació i serveis disponibles a la web de l’Agrupació Cultural Folklòrica Barcelona.\nFes-te soci
URL:https://acfbarcelona.cat/esdeveniment/concert-de-nadal-2025-cicle-cobla-barcelona/
LOCATION:Teatre Casino l’Aliança del Poblenou\, Rambla del Poblenou\, 42\, BARCELONA\, BARCELONA\, 08005\, Spain
CATEGORIES:AMICS DELS CONCERTS
ATTACH;FMTTYPE=image/png:https://acfbarcelona.cat/wp-content/uploads/2025/07/Segell-cobla9_2-CICLE-DE-COBLA-VERMELL-e1752215010351.png
END:VEVENT
BEGIN:VEVENT
DTSTART;TZID=Europe/Madrid:20251220T080000
DTEND;TZID=Europe/Madrid:20251220T170000
DTSTAMP:20260421T011423
CREATED:20250114T193109Z
LAST-MODIFIED:20250917T090033Z
UID:10000041-1766217600-1766250000@acfbarcelona.cat
SUMMARY:SORTIDA NADALENCA - TARREGA
DESCRIPTION:Sortida de Nadal a Tàrrega: Descobrint el secret de Mas Colom Casa Borges\nBenvinguts a la nostra secció de Turisme Cultural Voltant per Catalunya! Com cada any\, l’Agrupació Cultural Folklòrica Barcelona prepara un calendari ple d’activitats i excursions per descobrir el ric patrimoni del nostre territori. I per acomiadar l’any de la millor manera\, ens fa molta il·lusió anunciar la nostra tradicional Sortida Nadalenca Turisme Cultural. \nAquesta Sortida Nadalenca Turisme Cultural és una de les cites més esperades del nostre programa. És una oportunitat fantàstica per gaudir de l’esperit festiu de Nadal en un entorn cultural diferent. \nEl proper 20 de desembre us convidem a celebrar les festes amb una sortida molt especial a Tàrrega\, al cor de la comarca de l’Urgell. Serà una jornada dedicada a descobrir una de les joies gastronòmiques de la nostra terra i a gaudir de l’ambient de Nadal. El nostre destí: Mas Colom\, la masia històrica de Casa Borges. \n\nTàrrega: Porta d’entrada a l’Urgell\nTàrrega és la capital d’una comarca amb una llarga tradició agrícola. La seva ubicació\, enmig de la plana de l’Urgell\, la converteix en un punt neuràlgic on es fusionen l’agricultura\, el comerç i una rica història. Durant la nostra visita\, podrem gaudir del seu ambient i passejar pels seus carrers mentre ens preparem per a la visita al Mas Colom\, un lloc emblemàtic que ens endinsarà en la història de la companyia Borges. \n\nMas Colom: L’essència de l’oli i la fruita seca\nLa visita a Mas Colom\, la casa de Borges\, és un viatge al passat i al present. Aquesta masia\, un espai on es barreja l’arquitectura tradicional amb la modernitat\, és el centre neuràlgic de la producció d’oli d’oliva verge extra i fruits secs de la marca. \nDurant la visita\, tindrem l’oportunitat de: \n\nConèixer l’origen de la marca Borges i la seva història\, lligada a la família Pont.\nAprendre sobre el procés de producció de l’oli d’oliva des de l’olivera fins a la botella.\nDescobrir els secrets de les fruites seques\, un aliment fonamental en la nostra dieta.\n\nAquesta sortida de Nadal és la manera perfecta de tancar l’any amb una activitat diferent i enriquidora\, envoltats de bon ambient i productes de qualitat. Us hi esperem! \nAquí teniu dues opcions per reescriure el text\, mantenint la informació essencial però amb un enfocament diferent per evitar repeticions. \n\nCom inscriure’s i obtenir més informació\nPer a inscriure-us a la sortida de Nadal a Tàrrega i a Mas Colom\, podeu contactar amb la M. Rosa al 629 217 408. Ella us resoldrà qualsevol dubte sobre dates\, preus i horaris. \nRecordeu que\, si hi ha canvis en la programació\, us n’avisaríem amb la màxima antelació possible. \nUs animem a reservar aquesta data a les vostres agendes. Serà una jornada plena de companyia\, descoberta i l’alegria pròpia d’aquestes dates tan assenyalades. La Sortida Nadalenca Turisme Cultural és\, sens dubte\, la millor manera de tancar el cicle d’excursions abans de donar la benvinguda al nou any. \n  \n\nNo et perdis cap activitat de Turisme Cultural!\nPer estar sempre al dia de totes les novetats sobre la Sortida Nadalenca Turisme Cultural i les properes excursions de la nostra Agrupació\, et convidem a: \n\nConsultar l’agenda completa: Trobareu totes les nostres sortides programades a la nostra Agenda de Turisme Cultural.\nSeguir-nos a les xarxes socials: Descobreix les nostres fotos i vídeos més recents al nostre Instagram.\nExplorar el nostre blog de Turisme Cultural: Llegeix cròniques d’altres sortides i descobreix els nostres destins al Blog de Turisme Cultural.\nMantenir-te informat amb les circulars: Per a tots els detalls i avisos importants\, consulta les nostres Circulars Informatives.\nVisitar la nostra web principal: Descobreix tot el que la nostra Agrupació t’ofereix a la web de l’Agrupació Cultural Folklòrica Barcelona.
URL:https://acfbarcelona.cat/esdeveniment/sortida-nadalenca/
CATEGORIES:Turisme Cultural
ATTACH;FMTTYPE=image/png:https://acfbarcelona.cat/wp-content/uploads/2024/12/Copia-de-Cartell-Turisme-Cultural.png
END:VEVENT
END:VCALENDAR