BEGIN:VCALENDAR
VERSION:2.0
PRODID:-//AGRUPACIÓ CULTURAL FOLKLÒRICA BARCELONA - ECPv6.11.2.1//NONSGML v1.0//EN
CALSCALE:GREGORIAN
METHOD:PUBLISH
X-WR-CALNAME:AGRUPACIÓ CULTURAL FOLKLÒRICA BARCELONA
X-ORIGINAL-URL:https://acfbarcelona.cat
X-WR-CALDESC:Esdeveniments per AGRUPACIÓ CULTURAL FOLKLÒRICA BARCELONA
REFRESH-INTERVAL;VALUE=DURATION:PT1H
X-Robots-Tag:noindex
X-PUBLISHED-TTL:PT1H
BEGIN:VTIMEZONE
TZID:Europe/Madrid
BEGIN:DAYLIGHT
TZOFFSETFROM:+0100
TZOFFSETTO:+0200
TZNAME:CEST
DTSTART:20260329T010000
END:DAYLIGHT
BEGIN:STANDARD
TZOFFSETFROM:+0200
TZOFFSETTO:+0100
TZNAME:CET
DTSTART:20261025T010000
END:STANDARD
END:VTIMEZONE
BEGIN:VEVENT
DTSTART;TZID=Europe/Madrid:20260209T190000
DTEND;TZID=Europe/Madrid:20260209T204500
DTSTAMP:20260421T043133
CREATED:20251218T165658Z
LAST-MODIFIED:20251218T173330Z
UID:10000121-1770663600-1770669900@acfbarcelona.cat
SUMMARY:GALA LÍRICA
DESCRIPTION:Cicle de Cobla a Barcelona 2026 \nCultura Popular als Ateneus \nCobla Mediterrània i les cantants Maria Hinojosa i Marta Valero \nEntrada Lliure \nGALA LÍRICA \nMARIA HINOJOSA\, soprano \nMARTA VALERO\, mezzo-soprano \ncobla MEDITERRÀNIA \nJOAN TORRAS\, percussió \nBERNAT CASTILLEJO\, direcció \nLa cobla és un conjunt musical molt versàtil\, capaç de fusionar-se amb altres instruments o d’endinsar-se en la interpretació d’altres gèneres aliens a la sardana. Un dels objectius del Cicle de Cobla de Barcelona és evidenciar aquestes propietats i una bona prova d’això és la proposta d’aquest concert: la lírica i la cobla. \nS’ha parlat molt de la gran quantitat de sardanes escrites a partir de temes musicals d’òperes\, de sarsueles o del teatre líric -especialment a les darreries del segle XIX\, començaments del XX-. Com a prova\, a la primera part\, se’n podran escoltar dues d’inspirades en òperes i dues més inspirades en obres del teatre líric català. \nFinalitzarà la primera part amb la primera audició a Barcelona de l’obra d’encàrrec de la 38ena edició dels Premis Ceret-Banyoles\, original de Josep Maria Serracant: Complanta per a un home músic\, a la memòria de Jesús Ventura\, amb text de Jordi Lara i les veus de Maria Hinojosa i Marta Valero. \nLa segona part estarà dedicada a les transcripcions per a veus i cobla que han fet Josep Maria Serracant i Bernat Castillejo d’àries i duets de set òperes d’autors ben diferents\, com són Gershwin\, Bizet\, Mozart\, Saint-Saëns\, Delibes\, Offenbach o Rossini. \nLa cobla Mediterrània estarà dirigida per Bernat Castillejo i el concerrt comptarà amb les presentacions de l’Oriol Pérez Treviño. \nAmb l’assessorament de Músics per la Cobla. \n ENTRADES\n  \nNo et perdis cap concert\, si vols estar informat de i rebre informació del Cicle de Cobla a Barcelona descarregat el programa \nSi vols estar al dia de totes les activitats que fem no t’oblidis de consultar la nostra agenda
URL:https://acfbarcelona.cat/esdeveniment/gala-lirica/
CATEGORIES:AMICS DELS CONCERTS
ATTACH;FMTTYPE=image/png:https://acfbarcelona.cat/wp-content/uploads/2025/12/03_Gala-lirica_CARTELL.png
END:VEVENT
BEGIN:VEVENT
DTSTART;TZID=Europe/Madrid:20260211T190000
DTEND;TZID=Europe/Madrid:20260211T200000
DTSTAMP:20260421T043133
CREATED:20251218T174922Z
LAST-MODIFIED:20251218T174922Z
UID:10000130-1770836400-1770840000@acfbarcelona.cat
SUMMARY:CARNESTOLTES TEMPS DE TRANSGRESSIÓ... O NO TANT.
DESCRIPTION:ACTIVITATS A LA CASA DE LA SARDANA\nEl dimecres 11 de febrer del 2026\, a les 19 h\, es durà a terme una xerrada a càrrec de l’escriptor i gestor cultural Amadeu Carbó. \nL’objectiu és presentar una reflexió sobre el Carnestoltes i la manera com aquesta festivitat ha evolucionat al llarg del temps. Aquest és un acte gratuït. \n  \nNo et perdis cap acte\, consulta la nostra agenda \n  \n 
URL:https://acfbarcelona.cat/esdeveniment/carnestoltes-temps-de-transgressio-o-no-tant/
LOCATION:Casa de la Sardana\, Pou de la Figuera 15 Local\, Barcelona\, Barcelona\, 08003\, Spain
CATEGORIES:CASA DE LA SARDANA
ATTACH;FMTTYPE=image/jpeg:https://acfbarcelona.cat/wp-content/uploads/2025/12/carnestoltes.jpg
END:VEVENT
BEGIN:VEVENT
DTSTART;TZID=Europe/Madrid:20260215T160000
DTEND;TZID=Europe/Madrid:20260215T190000
DTSTAMP:20260421T043133
CREATED:20260112T134017Z
LAST-MODIFIED:20260215T061542Z
UID:10000132-1771171200-1771182000@acfbarcelona.cat
SUMMARY:BALLADA DOBLE PER SANTA EULÀLIA
DESCRIPTION:Ballada Doble Festes de Santa Eulàlia \nUn any més organitzem juntament amb l’ Ajuntament de Barcelona la ballada en motiu de les Festes de Santa Eulàlia. \nDia: Diumenge 15 de febrer de 16:00 a 19:00 \nLloc: Plaça Sant Jaume \nCobles: Ciutat de Terrassa i Cobla Mediterrània \nPodeu descarregar el programa aquí \n \n 
URL:https://acfbarcelona.cat/esdeveniment/ballada-santa-eulalia/
CATEGORIES:BALLADES DE SARDANES
ATTACH;FMTTYPE=image/jpeg:https://acfbarcelona.cat/wp-content/uploads/2026/01/IMG_20250209_181517-scaled.jpg
END:VEVENT
BEGIN:VEVENT
DTSTART;TZID=Europe/Madrid:20260223T190000
DTEND;TZID=Europe/Madrid:20260223T204500
DTSTAMP:20260421T043133
CREATED:20251218T165804Z
LAST-MODIFIED:20251218T173435Z
UID:10000122-1771873200-1771879500@acfbarcelona.cat
SUMMARY:CONCERT ITÀLIA / ALEMANYA
DESCRIPTION:Cicle de Cobla a Barcelona 2026 \nCultura Popular als Ateneus \nCobla Sant Jordi – Ciutat de Barcelona \nEntrada Lliure \nCONCERT ITÀLIA/ALEMANYA \ncobla SANT JORDI-CIUTAT DE BARCELONA \ndirecció: MIQUEL MASSANA \nDurant el transcurs de l’any 2025\, la Cobla Sant Jordi ha efectuat tres concerts a l’estranger : a Cúneo i a Saluzzo (Itàlia)\, dintre del Festival Occit’amo i a Hamburg (Alemanya)\, a la Sala Gran de l’Elbphilarmonie. En els tres actes ha interpretat una selecció de sardanes per a donar una visió general del patrimoni musical coblístic. Al costat de peces de Garreta\, Toldrà\, Morera\, Serra\, Lamote de Grignon\, Ferrer\, Casals\, van interpretar-ne d’altres de Timón\, Amargós i Pagès. \nConscients del que representa reunir tots aquest grans compositors catalans en un mateix programa internacional\, hem pensat en replicar-lo en el nostre Cicle per poder gaudir de les acurades interpretacions que la Cobla Sant Jordi fa d’aquest repertori. \nEl concert serà dirigit pel director titular de la cobla\, en Miquel Massana i la presentació anirà a càrrec de la manlleuenca Imma Pujol. \n ENTRADES\nNo et perdis cap concert\, si vols estar informat de i rebre informació del Cicle de Cobla a Barcelona descarregat el programa \nSi vols estar al dia de totes les activitats que fem no t’oblidis de consultar la nostra agenda
URL:https://acfbarcelona.cat/esdeveniment/concert-italia-alemanya/
LOCATION:Teatre Casino l’Aliança del Poblenou\, Rambla del Poblenou\, 42\, BARCELONA\, BARCELONA\, 08005\, Spain
CATEGORIES:AMICS DELS CONCERTS
ATTACH;FMTTYPE=image/png:https://acfbarcelona.cat/wp-content/uploads/2025/12/04_Italia-Alemanya_CARTELL.png
END:VEVENT
BEGIN:VEVENT
DTSTART;TZID=Europe/Madrid:20260225T190000
DTEND;TZID=Europe/Madrid:20260225T200000
DTSTAMP:20260421T043133
CREATED:20251218T175445Z
LAST-MODIFIED:20251218T175930Z
UID:10000131-1772046000-1772049600@acfbarcelona.cat
SUMMARY:UN VIATGE DE LLARG RECORREGUT\, UN VIATGE PEL CANT CLÀSSIC I EL CANT MODERN
DESCRIPTION:ACTIVITATS A LA CASA DE LA SARDANA\nEl dimecres 25 de febrer del 2026\, a les 19 h\, concert amb la cantant Mariona Soldevila Sala. \nUn viatge musical a través de dos estils de cant diferents\, però amb molts punts en comú. Un recorregut per cançons clàssiques\, modernes i de musicals\, amb repertori d’arreu del món i també de casa nostra. Aquest és un acte amb taquilla inversa. \n  \nNo et perdis cap acte\, consulta la nostra agenda \n  \n 
URL:https://acfbarcelona.cat/esdeveniment/un-viatge-de-llarg-recorregut/
LOCATION:Casa de la Sardana\, Pou de la Figuera 15 Local\, Barcelona\, Barcelona\, 08003\, Spain
CATEGORIES:CASA DE LA SARDANA
ATTACH;FMTTYPE=image/jpeg:https://acfbarcelona.cat/wp-content/uploads/2025/12/Viatge.jpg
END:VEVENT
END:VCALENDAR